BEGIN:VCALENDAR
VERSION:2.0
PRODID:-//Accademia Olistica Albero della Vita - ECPv6.15.19//NONSGML v1.0//EN
CALSCALE:GREGORIAN
METHOD:PUBLISH
X-ORIGINAL-URL:https://accademiaolisticalberodellavita.it
X-WR-CALDESC:Eventi per Accademia Olistica Albero della Vita
REFRESH-INTERVAL;VALUE=DURATION:PT1H
X-Robots-Tag:noindex
X-PUBLISHED-TTL:PT1H
BEGIN:VTIMEZONE
TZID:UTC
BEGIN:STANDARD
TZOFFSETFROM:+0000
TZOFFSETTO:+0000
TZNAME:UTC
DTSTART:20210101T000000
END:STANDARD
END:VTIMEZONE
BEGIN:VEVENT
DTSTART;TZID=UTC:20220113T203000
DTEND;TZID=UTC:20220113T220000
DTSTAMP:20260426T041335
CREATED:20211229T133508Z
LAST-MODIFIED:20211229T133508Z
UID:4041-1642105800-1642111200@accademiaolisticalberodellavita.it
SUMMARY:“Chakra Rebalancing: il respiro è vita”
DESCRIPTION:gruppo di studio gratuito e aperto a tutti gli allievi dell’Accademia Olistica Alberodella Vita esercizi e approfondimenti – supervisor: Maria Cristina Sapori dalle 20\,30 alle 21\,45 su PIATTAFORMA ZOOM
URL:https://accademiaolisticalberodellavita.it/event/chakra-rebalancing-il-respiro-e-vita/
LOCATION:Corso in diretta Online su Piattaforma ZOOM
END:VEVENT
END:VCALENDAR