BEGIN:VCALENDAR
VERSION:2.0
PRODID:-//Accademia Olistica Albero della Vita - ECPv6.15.19//NONSGML v1.0//EN
CALSCALE:GREGORIAN
METHOD:PUBLISH
X-ORIGINAL-URL:https://accademiaolisticalberodellavita.it
X-WR-CALDESC:Eventi per Accademia Olistica Albero della Vita
REFRESH-INTERVAL;VALUE=DURATION:PT1H
X-Robots-Tag:noindex
X-PUBLISHED-TTL:PT1H
BEGIN:VTIMEZONE
TZID:UTC
BEGIN:STANDARD
TZOFFSETFROM:+0000
TZOFFSETTO:+0000
TZNAME:UTC
DTSTART:20210101T000000
END:STANDARD
END:VTIMEZONE
BEGIN:VEVENT
DTSTART;TZID=UTC:20220129T100000
DTEND;TZID=UTC:20220130T190000
DTSTAMP:20260426T041336
CREATED:20211229T135018Z
LAST-MODIFIED:20211229T135018Z
UID:4052-1643450400-1643569200@accademiaolisticalberodellavita.it
SUMMARY:NUMEROLOGIA EVOLUTIVA INTEGRATA – TERZO LIVELLO
DESCRIPTION:NUMEROLOGIA EVOLUTIVA INTEGRATA – TERZO LIVELLO \ndocente: Maria Cristina Sapori  \nSVOLGIMENTO ONLINE SU PIATTAFORMA ZOOM \nContributo richiesto: € 155\, comprensivi di dispensa\, attestato di frequenza e registrazione dell’intero corso inviati online \nProgramma del corso teorico-pratico \nEsercitazioni per lo sviluppo della Carta Numerologica e studio approfondito delle comparazioni di coppia \nStudio delle tecniche di guarigione attraverso i numeri basate su: metodo di Fibonacci – sistema di Grigorji Grabovoj – l metodo di Zhi Gang Shah \nEsercizi e tecniche di guarigione con i numeri: meditazioni\, visualizzazioni\, scrittura\, creazione di mandala per l’armonizzazione degli ambienti \nSequenza numeriche di Riequilibrio Energetico: trovare i propri numeri per riattivare le risorse di auto-guarigione
URL:https://accademiaolisticalberodellavita.it/event/numerologia-evolutiva-integrata-terzo-livello-2/
LOCATION:Corso in diretta Online su Piattaforma ZOOM
END:VEVENT
END:VCALENDAR