BEGIN:VCALENDAR
VERSION:2.0
PRODID:-//Accademia Olistica Albero della Vita - ECPv6.15.19//NONSGML v1.0//EN
CALSCALE:GREGORIAN
METHOD:PUBLISH
X-WR-CALNAME:Accademia Olistica Albero della Vita
X-ORIGINAL-URL:https://accademiaolisticalberodellavita.it
X-WR-CALDESC:Eventi per Accademia Olistica Albero della Vita
REFRESH-INTERVAL;VALUE=DURATION:PT1H
X-Robots-Tag:noindex
X-PUBLISHED-TTL:PT1H
BEGIN:VTIMEZONE
TZID:UTC
BEGIN:STANDARD
TZOFFSETFROM:+0000
TZOFFSETTO:+0000
TZNAME:UTC
DTSTART:20210101T000000
END:STANDARD
END:VTIMEZONE
BEGIN:VEVENT
DTSTART;TZID=UTC:20220217T203000
DTEND;TZID=UTC:20220217T220000
DTSTAMP:20260426T023451
CREATED:20211229T140017Z
LAST-MODIFIED:20211229T140017Z
UID:4065-1645129800-1645135200@accademiaolisticalberodellavita.it
SUMMARY:“COME CONDURRE UN COLLOQUIO DI FLORIPRATICA”
DESCRIPTION: Incontro gratuito aperto a tutti gli allievi dell’Accademia Olistica Albero della Vita : “COME CONDURRE UN COLLOQUIO DI FLORIPRATICA” supervisor: Maria Cristina Sapori 
URL:https://accademiaolisticalberodellavita.it/event/come-condurre-un-colloquio-di-floripratica/
LOCATION:Corso in diretta Online su Piattaforma ZOOM
END:VEVENT
END:VCALENDAR