BEGIN:VCALENDAR
VERSION:2.0
PRODID:-//Accademia Olistica Albero della Vita - ECPv6.15.19//NONSGML v1.0//EN
CALSCALE:GREGORIAN
METHOD:PUBLISH
X-ORIGINAL-URL:https://accademiaolisticalberodellavita.it
X-WR-CALDESC:Eventi per Accademia Olistica Albero della Vita
REFRESH-INTERVAL;VALUE=DURATION:PT1H
X-Robots-Tag:noindex
X-PUBLISHED-TTL:PT1H
BEGIN:VTIMEZONE
TZID:UTC
BEGIN:STANDARD
TZOFFSETFROM:+0000
TZOFFSETTO:+0000
TZNAME:UTC
DTSTART:20210101T000000
END:STANDARD
END:VTIMEZONE
BEGIN:VEVENT
DTSTART;TZID=UTC:20220220T100000
DTEND;TZID=UTC:20220220T190000
DTSTAMP:20260426T023542
CREATED:20211229T140257Z
LAST-MODIFIED:20211229T140257Z
UID:4069-1645351200-1645383600@accademiaolisticalberodellavita.it
SUMMARY:OLI ESSENZIALI: STUDIO E APPLICAZIONI PRATICHE
DESCRIPTION:OLI ESSENZIALI: STUDIO E APPLICAZIONI PRATICHE  \ndocente: Maria Cristina Sapori \nSede corso: Centro Olistico Majo Om Via Olmetola n. 42 Bologna \nContributo richiesto € 89\, comprensivi di attestato di frequenza\, dispensa di studio e lo Spray Sinergico (ogni allievo porterà a casa lo Spray che ha preparato in aula) \nProgramma del corso teorico-pratico: \nCollegamenti tra gli oli essenziali e i pianeti del Sistema Solare per comprendere le loro caratteristiche energetiche\, la loro natura riscaldante o rinfrescante e il loro corretto utilizzo per corpo e mente \nStudio e applicazioni pratiche di: Abete rosso canadese (tsuga canadensis) – Basilico – Benzoino – Canfora – Camomilla – Incenso – Limone – Mirra – Mirto – Neroli (arancio amaro fiori) – Rosa – Verbena \nUtilizzo degli oli essenziali\, singoli o combinati\, per portare armonia negli ambienti e riequilibrare le tensioni di corpo e mente \nPreparazione di uno Spray Sinergico a base di oli essenziali ed essenze floreali \nFormulazioni di miscele di oli essenziali con indicazioni specifiche su richieste degli allievi
URL:https://accademiaolisticalberodellavita.it/event/oli-essenziali-studio-e-applicazioni-pratiche/
LOCATION:Corso in diretta Online su Piattaforma ZOOM
END:VEVENT
END:VCALENDAR