BEGIN:VCALENDAR
VERSION:2.0
PRODID:-//Accademia Olistica Albero della Vita - ECPv6.15.19//NONSGML v1.0//EN
CALSCALE:GREGORIAN
METHOD:PUBLISH
X-WR-CALNAME:Accademia Olistica Albero della Vita
X-ORIGINAL-URL:https://accademiaolisticalberodellavita.it
X-WR-CALDESC:Eventi per Accademia Olistica Albero della Vita
REFRESH-INTERVAL;VALUE=DURATION:PT1H
X-Robots-Tag:noindex
X-PUBLISHED-TTL:PT1H
BEGIN:VTIMEZONE
TZID:UTC
BEGIN:STANDARD
TZOFFSETFROM:+0000
TZOFFSETTO:+0000
TZNAME:UTC
DTSTART:20210101T000000
END:STANDARD
END:VTIMEZONE
BEGIN:VEVENT
DTSTART;TZID=UTC:20220226T100000
DTEND;TZID=UTC:20220227T190000
DTSTAMP:20260426T023449
CREATED:20211229T140526Z
LAST-MODIFIED:20211229T140526Z
UID:4073-1645869600-1645988400@accademiaolisticalberodellavita.it
SUMMARY:ALIMENTAZIONE NATURALE INTEGRATA - A.N.I.
DESCRIPTION:ALIMENTAZIONE NATURALE INTEGRATA – A.N.I. \ndocente: Maria Cristina Sapori  \nSVOLGIMENTO ONLINE SU PIATTAFORMA ZOOM \nContributo richiesto € 155\, comprensivi di dispensa di studio\, registrazione dell’intero corso e attestato di frequenza inviati online \nProgramma corso \nProgramma del corso teorico\nI gruppi alimentari: carboidrati – proteine – lipidi\nFrutta\, verdura e legumi: qual è la giusta quantità secondo l’Alimentazione Naturale Integrata (A.N.I.)\nTofu\, seitan\, tempeh: come e quando utilizzarli\nLe alghe: preziose alleate della nostra salute\nI condimenti: oli\, aceto di umeboshi\, sale cristallino himalayano\, sale integrale\, spezie\nLe combinazioni alimentari\nIl digiuno ed i suoi e etti nell’ organismo umano\nAllergie e intolleranze alimentari\nVitamine\, minerali\, oligoelementi: quando è utile e quando è nocivo l’utilizzo degli integratori alimentari\nIl giusto modo di alimentarsi secondo l’Alimentazione Naturale Integrata (A.N.I.) per le diverse e\nstili di vita\nStudio di un corretto Programma Alimentare Naturale Integrato per mantenere giusto peso \nEsempi di Programmi Alimentari Naturali Integrati per il mantenimento di benessere e forma fisica \n  \n 
URL:https://accademiaolisticalberodellavita.it/event/alimentazione-naturale-integrata-a-n-i/
LOCATION:Corso in diretta Online su Piattaforma ZOOM
END:VEVENT
END:VCALENDAR