BEGIN:VCALENDAR
VERSION:2.0
PRODID:-//Accademia Olistica Albero della Vita - ECPv6.15.19//NONSGML v1.0//EN
CALSCALE:GREGORIAN
METHOD:PUBLISH
X-WR-CALNAME:Accademia Olistica Albero della Vita
X-ORIGINAL-URL:https://accademiaolisticalberodellavita.it
X-WR-CALDESC:Eventi per Accademia Olistica Albero della Vita
REFRESH-INTERVAL;VALUE=DURATION:PT1H
X-Robots-Tag:noindex
X-PUBLISHED-TTL:PT1H
BEGIN:VTIMEZONE
TZID:UTC
BEGIN:STANDARD
TZOFFSETFROM:+0000
TZOFFSETTO:+0000
TZNAME:UTC
DTSTART:20210101T000000
END:STANDARD
END:VTIMEZONE
BEGIN:VEVENT
DTSTART;TZID=UTC:20220312T100000
DTEND;TZID=UTC:20220313T190000
DTSTAMP:20260426T005810
CREATED:20220302T132847Z
LAST-MODIFIED:20220302T132847Z
UID:4244-1647079200-1647198000@accademiaolisticalberodellavita.it
SUMMARY:ENERGY REBALANCING - Conoscere e armonizzare i Campi d'Energia
DESCRIPTION:ENERGY REBALANCING – CONOSCERE E RIARMONIZZARE I CAMPI D’ENERGIA\ndocente: Maria Cristina Sapori\nSVOLGIMENTO ONLINE SU PIATTAFORMA ZOOM\ndalle 10 alle 19 (con 2 break e la pausa pranzo di 1 ora e 30 in entrambe le giornate)\nContributo richiesto € 155\, comprensivi di dispensa di studio\, registrazione dell’intero corso e attestato di frequenza inviati online \nProgramma del corso teorico-esperienziale\n-Studio dei campi di energia sottile: Nodi di Hartmann\, Linee di Curry\, Ley Lines: tecniche e geometria sacra per riportare armonia negli ambienti\n-Imparare ad ascoltare la propria Voce Interiore per vivere in armonia: meditazioni creative e tecniche di riequilibrio vibrazionale\n-Leggi karmiche: comprensione della legge di causa-effetto e meditazioni per la comprensione dei propri nodi karmici\n-Affermazioni per il riequilibrio delle energie sottili -Studio e preparazione di miscele floreali\, oli essenziali e Acque di Luce per la pulizia del campo aurico\, il riequilibrio dei Chakra\, la purificazione dell’ambiente e l’attivazione delle proprie risorse interiori
URL:https://accademiaolisticalberodellavita.it/event/energy-rebalancing-conoscere-e-armonizzare-i-campi-denergia/
ATTACH;FMTTYPE=image/jpeg:https://accademiaolisticalberodellavita.it/wp-content/uploads/2022/03/ENERGIA-e1721797971352.jpg
END:VEVENT
END:VCALENDAR