BEGIN:VCALENDAR
VERSION:2.0
PRODID:-//Accademia Olistica Albero della Vita - ECPv6.15.19//NONSGML v1.0//EN
CALSCALE:GREGORIAN
METHOD:PUBLISH
X-WR-CALNAME:Accademia Olistica Albero della Vita
X-ORIGINAL-URL:https://accademiaolisticalberodellavita.it
X-WR-CALDESC:Eventi per Accademia Olistica Albero della Vita
REFRESH-INTERVAL;VALUE=DURATION:PT1H
X-Robots-Tag:noindex
X-PUBLISHED-TTL:PT1H
BEGIN:VTIMEZONE
TZID:UTC
BEGIN:STANDARD
TZOFFSETFROM:+0000
TZOFFSETTO:+0000
TZNAME:UTC
DTSTART:20210101T000000
END:STANDARD
END:VTIMEZONE
BEGIN:VEVENT
DTSTART;TZID=UTC:20220317T203000
DTEND;TZID=UTC:20220317T214500
DTSTAMP:20260426T005732
CREATED:20220302T133400Z
LAST-MODIFIED:20220302T133400Z
UID:4237-1647549000-1647553500@accademiaolisticalberodellavita.it
SUMMARY:INCONTRO GRATUITO APERTO A TUTTI: “MEDICINA TRADIZIONALE CINESE: COLLEGAMENTI FRA I 5 ELEMENTI\, IL CORPO UMANO E LE EMOZIONI”
DESCRIPTION: Incontro gratuito aperto A TUTTI:\n“MEDICINA TRADIZIONALE CINESE: COLLEGAMENTI FRA I 5 ELEMENTI\, IL CORPO UMANO E LE EMOZIONI”\nSupervisor: Maria Cristina Sapori\ndalle 20\,30 alle 21\,45 su PIATTAFORMA ZOOM
URL:https://accademiaolisticalberodellavita.it/event/incontro-gratuito-aperto-a-tutti-medicina-tradizionale-cinese-collegamenti-fra-i-5-elementi-il-corpo-umano-e-le-emozioni/
ATTACH;FMTTYPE=image/jpeg:https://accademiaolisticalberodellavita.it/wp-content/uploads/2022/03/1_5_elementi.jpg
END:VEVENT
END:VCALENDAR