BEGIN:VCALENDAR
VERSION:2.0
PRODID:-//Accademia Olistica Albero della Vita - ECPv6.15.19//NONSGML v1.0//EN
CALSCALE:GREGORIAN
METHOD:PUBLISH
X-ORIGINAL-URL:https://accademiaolisticalberodellavita.it
X-WR-CALDESC:Eventi per Accademia Olistica Albero della Vita
REFRESH-INTERVAL;VALUE=DURATION:PT1H
X-Robots-Tag:noindex
X-PUBLISHED-TTL:PT1H
BEGIN:VTIMEZONE
TZID:UTC
BEGIN:STANDARD
TZOFFSETFROM:+0000
TZOFFSETTO:+0000
TZNAME:UTC
DTSTART:20210101T000000
END:STANDARD
END:VTIMEZONE
BEGIN:VEVENT
DTSTART;TZID=UTC:20220324T203000
DTEND;TZID=UTC:20220324T214500
DTSTAMP:20260426T005806
CREATED:20220302T141200Z
LAST-MODIFIED:20220302T141200Z
UID:4264-1648153800-1648158300@accademiaolisticalberodellavita.it
SUMMARY:GRUPPO DI STUDIO APERTO A TUTTI: COS'E' IL MASSAGGIO SONORO CON CAMPANE TIBETARE
DESCRIPTION:Incontro gratuito aperto A TUTTI:\n“COS’E’ IL MASSAGGIO SONORO” con Bagno Armonico Sonoro con Campane Tibetane. A chiusura della serata insieme\ncondotto da Mara Ricci\ndalle 20\,30 alle 21\,45 su PIATTAFORMA ZOOM
URL:https://accademiaolisticalberodellavita.it/event/gruppo-di-studio-aperto-a-tutti-cose-il-massaggio-sonoro-con-campane-tibetare/
END:VEVENT
END:VCALENDAR