BEGIN:VCALENDAR
VERSION:2.0
PRODID:-//Accademia Olistica Albero della Vita - ECPv6.15.19//NONSGML v1.0//EN
CALSCALE:GREGORIAN
METHOD:PUBLISH
X-WR-CALNAME:Accademia Olistica Albero della Vita
X-ORIGINAL-URL:https://accademiaolisticalberodellavita.it
X-WR-CALDESC:Eventi per Accademia Olistica Albero della Vita
REFRESH-INTERVAL;VALUE=DURATION:PT1H
X-Robots-Tag:noindex
X-PUBLISHED-TTL:PT1H
BEGIN:VTIMEZONE
TZID:UTC
BEGIN:STANDARD
TZOFFSETFROM:+0000
TZOFFSETTO:+0000
TZNAME:UTC
DTSTART:20210101T000000
END:STANDARD
END:VTIMEZONE
BEGIN:VEVENT
DTSTART;TZID=UTC:20220331T203000
DTEND;TZID=UTC:20220331T214500
DTSTAMP:20260425T231047
CREATED:20220302T142313Z
LAST-MODIFIED:20220302T142313Z
UID:4268-1648758600-1648763100@accademiaolisticalberodellavita.it
SUMMARY:GRUPPO DI STUDIO APERTO A TUTTI COLORO CHE HANNO ALMENO IL PRIMO LIVELLO REIKI: “REIKI A DISTANZA PER PULIRE E ARMONIZZARE IL CAMPO AURICO NOSTRO E DEI LUOGHI IN CUI VIVIAMO”
DESCRIPTION:31 marzo 2022: Incontro gratuito e aperto solo a chi ha ricevuto almeno un livello Reiki (anche con altri Master):\n“REIKI A DISTANZA PER PULIRE E ARMONIZZARE IL CAMPO AURICO NOSTRO E DEI LUOGHI IN CUI VIVIAMO” \ncon Master Reiki Lally Murero\ndalle 20\,30 alle 21\,30 su PIATTAFORMA ZOOM
URL:https://accademiaolisticalberodellavita.it/event/gruppo-di-studio-aperto-a-tutti-coloro-che-hanno-almeno-il-primo-livello-reiki-reiki-a-distanza-per-pulire-e-armonizzare-il-campo-aurico-nostro-e-dei-luoghi-in-cui-viviamo/
END:VEVENT
END:VCALENDAR