BEGIN:VCALENDAR
VERSION:2.0
PRODID:-//Accademia Olistica Albero della Vita - ECPv6.15.19//NONSGML v1.0//EN
CALSCALE:GREGORIAN
METHOD:PUBLISH
X-WR-CALNAME:Accademia Olistica Albero della Vita
X-ORIGINAL-URL:https://accademiaolisticalberodellavita.it
X-WR-CALDESC:Eventi per Accademia Olistica Albero della Vita
REFRESH-INTERVAL;VALUE=DURATION:PT1H
X-Robots-Tag:noindex
X-PUBLISHED-TTL:PT1H
BEGIN:VTIMEZONE
TZID:UTC
BEGIN:STANDARD
TZOFFSETFROM:+0000
TZOFFSETTO:+0000
TZNAME:UTC
DTSTART:20210101T000000
END:STANDARD
END:VTIMEZONE
BEGIN:VEVENT
DTSTART;TZID=UTC:20220402T100000
DTEND;TZID=UTC:20220403T190000
DTSTAMP:20260425T231045
CREATED:20220302T144236Z
LAST-MODIFIED:20220302T144236Z
UID:4274-1648893600-1649012400@accademiaolisticalberodellavita.it
SUMMARY:MEDICINA TRADIZIONALE CINESE\, STILI DI VITA\, ALIMENTAZIONE NATURALE E MACROBIOTICA: UNA VISIONE ILLUMINATA PER MANTENERE IL BENESSERE DI MENTE E CORPO
DESCRIPTION:  \n\n\n\ndocente: Maria Cristina Sapori \nSVOLGIMENTO IN DIRETTA ONLINE SU PIATTAFORMA ZOOM \n\n\n\n\n\n\nContributo richiesto € 155\, comprensivi di dispensa di studio\, attestato di frequenza e registrazione dell’intero corso inviati online \n\n\n\n\n\n\nProgramma del corso\nConcetto e caratteristiche dello yin-yang\nI Cinque Elementi: Legno – Fuoco – Terra – Metallo – Acqua Le Leggi che governano i Cinque Elementi: comprendere i funzionamenti del nostro corpo e i collegamenti con emozioni\, stili di vita e cicli della Natura secondo la Medicina Tradizionale Cinese\nComprendere come utilizzare correttamente il cibo per mantenere equilibrio e benessere secondo i principi della Macrobiotica e dell’Alimentazione Naturale\nPreparati Naturali ed Essenze Floreali collegati alle Logge Energetiche: come utilizzare\, erbe\, integratori ed essenze floreali per mantenere il Benessere si mente e corpo\nDomande e risposte su casi specifici
URL:https://accademiaolisticalberodellavita.it/event/medicina-tradizionale-cinese-stili-di-vita-alimentazione-naturale-e-macrobiotica-una-visione-illuminata-per-mantenere-il-benessere-di-mente-e-corpo-2/
ATTACH;FMTTYPE=image/jpeg:https://accademiaolisticalberodellavita.it/wp-content/uploads/2022/03/1_5_elementi.jpg
END:VEVENT
END:VCALENDAR