BEGIN:VCALENDAR
VERSION:2.0
PRODID:-//Accademia Olistica Albero della Vita - ECPv6.15.19//NONSGML v1.0//EN
CALSCALE:GREGORIAN
METHOD:PUBLISH
X-ORIGINAL-URL:https://accademiaolisticalberodellavita.it
X-WR-CALDESC:Eventi per Accademia Olistica Albero della Vita
REFRESH-INTERVAL;VALUE=DURATION:PT1H
X-Robots-Tag:noindex
X-PUBLISHED-TTL:PT1H
BEGIN:VTIMEZONE
TZID:UTC
BEGIN:STANDARD
TZOFFSETFROM:+0000
TZOFFSETTO:+0000
TZNAME:UTC
DTSTART:20210101T000000
END:STANDARD
END:VTIMEZONE
BEGIN:VEVENT
DTSTART;TZID=UTC:20220414T213000
DTEND;TZID=UTC:20220414T220000
DTSTAMP:20260425T231043
CREATED:20220321T211743Z
LAST-MODIFIED:20220321T211743Z
UID:4282-1649971800-1649973600@accademiaolisticalberodellavita.it
SUMMARY: Incontro gratuito aperto a tutti gli allievi dell'Accademia Olistica Albero della Vita : “RITUALE DI PURIFICAZIONE CON IL FUOCO E L’ACQUA PER PREPARARSI ALLA PASQUA ”
DESCRIPTION: on Maria Cristina Sapori\ndalle 20\,30 alle 21\,45 SU PIATTAFORMA ZOOM
URL:https://accademiaolisticalberodellavita.it/event/incontro-gratuito-aperto-a-tutti-gli-allievi-dellaccademia-olistica-albero-della-vita-rituale-di-purificazione-con-il-fuoco-e-lacqua-per-prepararsi-alla-pasqua/
END:VEVENT
END:VCALENDAR