BEGIN:VCALENDAR
VERSION:2.0
PRODID:-//Accademia Olistica Albero della Vita - ECPv6.15.19//NONSGML v1.0//EN
CALSCALE:GREGORIAN
METHOD:PUBLISH
X-ORIGINAL-URL:https://accademiaolisticalberodellavita.it
X-WR-CALDESC:Eventi per Accademia Olistica Albero della Vita
REFRESH-INTERVAL;VALUE=DURATION:PT1H
X-Robots-Tag:noindex
X-PUBLISHED-TTL:PT1H
BEGIN:VTIMEZONE
TZID:UTC
BEGIN:STANDARD
TZOFFSETFROM:+0000
TZOFFSETTO:+0000
TZNAME:UTC
DTSTART:20210101T000000
END:STANDARD
END:VTIMEZONE
BEGIN:VEVENT
DTSTART;TZID=UTC:20220423T100000
DTEND;TZID=UTC:20220424T190000
DTSTAMP:20260425T231044
CREATED:20220321T212153Z
LAST-MODIFIED:20220321T212444Z
UID:4286-1650708000-1650826800@accademiaolisticalberodellavita.it
SUMMARY:RIFLESSOLOGIA PLANTARE OLISTICA INTEGRATA – TERZO MODULO
DESCRIPTION:docente: Sonia Demuru\nIL CORSO SI SVOLGE IN PRESENZA PRESSO CENTRO OLISTICO MAJO OM\nVIA OLMETOLA\, 42 BOLOGNA \ndalle 10 alle 19\, con 2 break e pausa pranzo in entrambe le giornate\nContributo richiesto € 176\, comprensivi di dispensa e attestato di frequenza Programma corso\n-MOVIMENTO METALLO: COPPIA POLMONE/INTESTINO CRASSO\nIl nutrimento del Cielo: Sistema Respiratorio\nGabbia toracica e respiro delle ossa\nAlimentazione\, Oli Essenziali ed Essenze Floreali -SISTEMA ENDOCRINO\nLe porte fra la Terra e il Cielo\nAlimentazione\, Oli Essenziali ed Essenze Floreali -RELAZIONI TRA I CINQUE MOVIMENTI Ciclo di Generazione e Ciclo di Controllo\n-SIGNIFICATO IN PSICOSOMATICA DELLE DITA DEI PIEDI -CONSIGLI PER SQUILIBRI VARI
URL:https://accademiaolisticalberodellavita.it/event/riflessologia-plantare-olistica-integrata-terzo-modulo/
END:VEVENT
END:VCALENDAR