BEGIN:VCALENDAR
VERSION:2.0
PRODID:-//Accademia Olistica Albero della Vita - ECPv6.15.19//NONSGML v1.0//EN
CALSCALE:GREGORIAN
METHOD:PUBLISH
X-ORIGINAL-URL:https://accademiaolisticalberodellavita.it
X-WR-CALDESC:Eventi per Accademia Olistica Albero della Vita
REFRESH-INTERVAL;VALUE=DURATION:PT1H
X-Robots-Tag:noindex
X-PUBLISHED-TTL:PT1H
BEGIN:VTIMEZONE
TZID:UTC
BEGIN:STANDARD
TZOFFSETFROM:+0000
TZOFFSETTO:+0000
TZNAME:UTC
DTSTART:20210101T000000
END:STANDARD
END:VTIMEZONE
BEGIN:VEVENT
DTSTART;TZID=UTC:20220521T100000
DTEND;TZID=UTC:20220522T190000
DTSTAMP:20260425T213243
CREATED:20220321T215125Z
LAST-MODIFIED:20220321T215125Z
UID:4307-1653127200-1653246000@accademiaolisticalberodellavita.it
SUMMARY:PROGRAMMI ALIMENTARI\, INTEGRATORI E PREPARATI NATURALI PER RAGGIUNGERE E MANTENERE IL GIUSTO PESO
DESCRIPTION:docente: Maria Cristina Sapori\nSVOLGIMENTO ONLINE SU PIATTAFORMA ZOOM \ndalle 10 alle 19\, con 2 break e pausa pranzo in ogni giornata\nContributo richiesto € 155\, comprensivi di dispensa di studio\, registrazione dell’intero corso e attestato di frequenza inviati online\nProgramma del corso\n-Come utilizzare gli alimenti per raggiungere e mantenere il giusto peso\n-Alimenti che stimolano il metabolismo basale e alimenti che lo\nrallentano\n-Apparato digestivo e apparato urinario: cibi\, integratori e rimedi naturali per mantenere il loro naturale stato di\nbenessere\n-Gonfiore\, eccesso di liquidi: come evitarli attraverso il corretto apporto nutrizionale\n-Studio di Programmi Alimentari Personalizzati per il mantenimento del giusto peso e del Benessere Integrale\n-Domande e risposte e studio di casi
URL:https://accademiaolisticalberodellavita.it/event/programmi-alimentari-integratori-e-preparati-naturali-per-raggiungere-e-mantenere-il-giusto-peso/
END:VEVENT
END:VCALENDAR