BEGIN:VCALENDAR
VERSION:2.0
PRODID:-//Accademia Olistica Albero della Vita - ECPv6.15.19//NONSGML v1.0//EN
CALSCALE:GREGORIAN
METHOD:PUBLISH
X-ORIGINAL-URL:https://accademiaolisticalberodellavita.it
X-WR-CALDESC:Eventi per Accademia Olistica Albero della Vita
REFRESH-INTERVAL;VALUE=DURATION:PT1H
X-Robots-Tag:noindex
X-PUBLISHED-TTL:PT1H
BEGIN:VTIMEZONE
TZID:UTC
BEGIN:STANDARD
TZOFFSETFROM:+0000
TZOFFSETTO:+0000
TZNAME:UTC
DTSTART:20210101T000000
END:STANDARD
END:VTIMEZONE
BEGIN:VEVENT
DTSTART;TZID=UTC:20220526T200000
DTEND;TZID=UTC:20220526T220000
DTSTAMP:20260425T213243
CREATED:20220321T215224Z
LAST-MODIFIED:20220321T215224Z
UID:4310-1653595200-1653602400@accademiaolisticalberodellavita.it
SUMMARY:Incontro gratuito aperto A TUTTI: “BAGNO SONORO CON CAMPANE ARMONICHE”
DESCRIPTION:Condotto da: Mara Ricci\ndalle 20\,30 alle 21\,45 SU PIATTAFORMA ZOOM
URL:https://accademiaolisticalberodellavita.it/event/incontro-gratuito-aperto-a-tutti-bagno-sonoro-con-campane-armoniche/
END:VEVENT
END:VCALENDAR