BEGIN:VCALENDAR
VERSION:2.0
PRODID:-//Accademia Olistica Albero della Vita - ECPv6.15.19//NONSGML v1.0//EN
CALSCALE:GREGORIAN
METHOD:PUBLISH
X-ORIGINAL-URL:https://accademiaolisticalberodellavita.it
X-WR-CALDESC:Eventi per Accademia Olistica Albero della Vita
REFRESH-INTERVAL;VALUE=DURATION:PT1H
X-Robots-Tag:noindex
X-PUBLISHED-TTL:PT1H
BEGIN:VTIMEZONE
TZID:UTC
BEGIN:STANDARD
TZOFFSETFROM:+0000
TZOFFSETTO:+0000
TZNAME:UTC
DTSTART:20210101T000000
END:STANDARD
END:VTIMEZONE
BEGIN:VEVENT
DTSTART;TZID=UTC:20220602T203000
DTEND;TZID=UTC:20220602T220000
DTSTAMP:20260425T193958
CREATED:20220321T215754Z
LAST-MODIFIED:20220321T215754Z
UID:4314-1654201800-1654207200@accademiaolisticalberodellavita.it
SUMMARY:Gruppo di studio gratuito aperto A TUTTI: “ESERCITAZIONI E APPROFONDIMENTI SU ESSENZE FLOREALI E OLI ESSENZIALI”
DESCRIPTION:” supervisor: Maria Cristina Sapori dalle 20\,30 alle 21\,45 SU PIATTAFORMA ZOOM
URL:https://accademiaolisticalberodellavita.it/event/gruppo-di-studio-gratuito-aperto-a-tutti-esercitazioni-e-approfondimenti-su-essenze-floreali-e-oli-essenziali/
END:VEVENT
END:VCALENDAR