BEGIN:VCALENDAR
VERSION:2.0
PRODID:-//Accademia Olistica Albero della Vita - ECPv6.15.19//NONSGML v1.0//EN
CALSCALE:GREGORIAN
METHOD:PUBLISH
X-WR-CALNAME:Accademia Olistica Albero della Vita
X-ORIGINAL-URL:https://accademiaolisticalberodellavita.it
X-WR-CALDESC:Eventi per Accademia Olistica Albero della Vita
REFRESH-INTERVAL;VALUE=DURATION:PT1H
X-Robots-Tag:noindex
X-PUBLISHED-TTL:PT1H
BEGIN:VTIMEZONE
TZID:UTC
BEGIN:STANDARD
TZOFFSETFROM:+0000
TZOFFSETTO:+0000
TZNAME:UTC
DTSTART:20210101T000000
END:STANDARD
END:VTIMEZONE
BEGIN:VEVENT
DTSTART;TZID=UTC:20220705T203000
DTEND;TZID=UTC:20220705T230000
DTSTAMP:20260425T175916
CREATED:20220321T222021Z
LAST-MODIFIED:20220321T222021Z
UID:4332-1657053000-1657062000@accademiaolisticalberodellavita.it
SUMMARY: TECNICHE DI LIBERAZIONE EMOZIONALE: EFT
DESCRIPTION:primo corso serale dalle 20\,30 alle 23\ndocente: Maria Cristina Sapori\nSVOLGIMENTO ONLINE SU PIATTAFORMA ZOOM \ndalle 20\,30 alle 23\nContributo € 29\, comprensivi della dispensa di studio e della registrazione del corso inviati online Programma del corso teorico-esperienziale\n-Come si utilizza la tecnica EFT per liberare traumi ed emozioni cristallizzate nel nostro sistema mente- corpo\n-Affermazioni: come si fanno\n-Come si pratica la sequenza: picchiettamento sui Punti allarme (tecnica di tapping)\n-Procedura 9 GAMMA\n-Sistema di valutazione da 1 a 10\n-La causa di tutte le emozioni disarmoniche è un blocco del sistema energetico: come usare la “frase promemoria”\n-L’importanza di essere chiari sulle problematiche da affrontare\n-L’importanza della costanza
URL:https://accademiaolisticalberodellavita.it/event/tecniche-di-liberazione-emozionale-eft/
END:VEVENT
END:VCALENDAR