BEGIN:VCALENDAR
VERSION:2.0
PRODID:-//Accademia Olistica Albero della Vita - ECPv6.15.19//NONSGML v1.0//EN
CALSCALE:GREGORIAN
METHOD:PUBLISH
X-ORIGINAL-URL:https://accademiaolisticalberodellavita.it
X-WR-CALDESC:Eventi per Accademia Olistica Albero della Vita
REFRESH-INTERVAL;VALUE=DURATION:PT1H
X-Robots-Tag:noindex
X-PUBLISHED-TTL:PT1H
BEGIN:VTIMEZONE
TZID:UTC
BEGIN:STANDARD
TZOFFSETFROM:+0000
TZOFFSETTO:+0000
TZNAME:UTC
DTSTART:20210101T000000
END:STANDARD
END:VTIMEZONE
BEGIN:VEVENT
DTSTART;TZID=UTC:20220903T100000
DTEND;TZID=UTC:20220904T190000
DTSTAMP:20260425T142855
CREATED:20220730T211749Z
LAST-MODIFIED:20250910T211542Z
UID:4603-1662199200-1662318000@accademiaolisticalberodellavita.it
SUMMARY:Corso GLI ELEMENTI RIFLESSI NEI PIEDI: INCONTRO FRA MAPPE CINESI\, FIORI DI BACH E OLI ESSENZIALI – 1° MODULO
DESCRIPTION:IL CORSO E’ RISERVATO A CHI HA FREQUENTATO IL PERCORSO  COMPLETO DI RIFLESSOLOGIA PLANTARE OLISTICA INTEGRATA \nSEDE: Accademia Olistica Albero della Vita Via F. Betti\, 6 Idice – S. Lazzaro di Savena (BO) \ndocente: Sonja Demuru \nContributo richiesto € 179\, comprensivi di dispensa di studio e attestato di frequenza \n 
URL:https://accademiaolisticalberodellavita.it/event/corso-gli-elementi-riflessi-nei-piedi-incontro-fra-mappe-cinesi-fiori-di-bach-e-oli-essenziali-1-modulo/
END:VEVENT
END:VCALENDAR