BEGIN:VCALENDAR
VERSION:2.0
PRODID:-//Accademia Olistica Albero della Vita - ECPv6.15.19//NONSGML v1.0//EN
CALSCALE:GREGORIAN
METHOD:PUBLISH
X-ORIGINAL-URL:https://accademiaolisticalberodellavita.it
X-WR-CALDESC:Eventi per Accademia Olistica Albero della Vita
REFRESH-INTERVAL;VALUE=DURATION:PT1H
X-Robots-Tag:noindex
X-PUBLISHED-TTL:PT1H
BEGIN:VTIMEZONE
TZID:UTC
BEGIN:STANDARD
TZOFFSETFROM:+0000
TZOFFSETTO:+0000
TZNAME:UTC
DTSTART:20210101T000000
END:STANDARD
END:VTIMEZONE
BEGIN:VEVENT
DTSTART;TZID=UTC:20220924T100000
DTEND;TZID=UTC:20220925T190000
DTSTAMP:20260425T142758
CREATED:20220730T213606Z
LAST-MODIFIED:20220730T213745Z
UID:4615-1664013600-1664132400@accademiaolisticalberodellavita.it
SUMMARY:corso CHAKRA REBALANCING – 1° LIVELLO
DESCRIPTION:  \n\n\n\n\nIL CORSO SI SVOLGE IN PRESENZA IN VIA OLMETOLA N. 42 BOLOGNA \n\n\n\n\n\nE CONTEMPORANEAMENTE IN DIRETTA ONLINE SU PIATTAFORMA ZOOM \n\n\n\n\ndocente: Maria Cristina Sapori \n\n\n\n\nCorso in aula: contributo richiesto € 179\, comprensivi di dispensa di studio e attestato di frequenza. \n\n\n\n\nCorso in diretta online: contributo richiesto € 158\, comprensivi di dispensa di studio\, registrazione \n\n\n\n\ndell’intero corso e attestato di frequenza inviati online \n\n\n\n\n\nProgramma del corso teorico-esperienziale \n\n\n\n\nI Chakra principali: capire come funzionano e come influiscono sul nostro corpo e sulle nostre emozioni. \n\n\n\n\nRiconoscere quali sono i loro segnali di squilibrio e imparare ad armonizzarli \n\n\n\n\nAttivazione dei Chakra inferiori: Esercizi e pratiche di riequilibrio energetico per aumentare energia e \n\n\n\n\nvitalità \n\n\n\n\nAttivazione del Chakra del cuore: ricevere e dare amore\, attraverso il riconoscimento della propria unicità \n\n\n\n\nAttivazione dei Chakra superiori: meditazioni creative\, mantra di purificazione e protezione. \n\n\n\n\nLa preghiera come ponte sacro tra noi e le nostre Guide Celesti \n\n\n\n\nDurante ogni incontro impareremo come riequilibrare ogni centro d’energia attraverso l’utilizzo di: \n\n\n\n\nTecniche di respirazione consapevole \n\n\n\n\nCanto di mantra sacri di purificazione e protezione \n\n\n\n\nMeditazione creativa guidata \n\n\n\n\nCreazione di Mandala di Luce
URL:https://accademiaolisticalberodellavita.it/event/corso-chakra-rebalancing-1-livello/
END:VEVENT
END:VCALENDAR