BEGIN:VCALENDAR
VERSION:2.0
PRODID:-//Accademia Olistica Albero della Vita - ECPv6.15.19//NONSGML v1.0//EN
CALSCALE:GREGORIAN
METHOD:PUBLISH
X-WR-CALNAME:Accademia Olistica Albero della Vita
X-ORIGINAL-URL:https://accademiaolisticalberodellavita.it
X-WR-CALDESC:Eventi per Accademia Olistica Albero della Vita
REFRESH-INTERVAL;VALUE=DURATION:PT1H
X-Robots-Tag:noindex
X-PUBLISHED-TTL:PT1H
BEGIN:VTIMEZONE
TZID:UTC
BEGIN:STANDARD
TZOFFSETFROM:+0000
TZOFFSETTO:+0000
TZNAME:UTC
DTSTART:20210101T000000
END:STANDARD
END:VTIMEZONE
BEGIN:VEVENT
DTSTART;TZID=UTC:20221112T100000
DTEND;TZID=UTC:20221113T190000
DTSTAMP:20260425T105505
CREATED:20221019T102055Z
LAST-MODIFIED:20221019T102055Z
UID:4677-1668247200-1668366000@accademiaolisticalberodellavita.it
SUMMARY:AUSTRALIAN BUSH FLOWER ESSENCES: CONOSCERLI E IMPARARE A UTILIZZARLI 
DESCRIPTION:IL CORSO SI SVOLGE SOLO IN DIRETTA ONLINE SU PIATTAFORMA ZOOM \ndocente: Maria Cristina Sapori  \nContributo richiesto € 158\, comprensivi di dispensa di studio\, attestato di frequenza e registrazione dell’intero corso inviati online \n  \nProgramma del corso teorico \nStudio approfondito delle 69 essenze Australian Bush Flowers per il riequilibrio di emozioni e stati d’animo Esempi di miscele di Australian Bush Flowers\, Fiori di Bach e Fiori Californiani per ottenere preparati sinergici\, particolarmente efficaci sugli aspetti da riequilibrare -Indicazioni specifiche per la preparazione di creme e spray a base di essenze floreali e oli essenziali per purificare e proteggere il proprio campo energetico e i luoghi in cui viviamo\nDomande e risposte con esempi di casi trattati
URL:https://accademiaolisticalberodellavita.it/event/australian-bush-flower-essences-conoscerli-e-imparare-a-utilizzarli/
END:VEVENT
BEGIN:VEVENT
DTSTART;TZID=UTC:20221113T100000
DTEND;TZID=UTC:20221113T190000
DTSTAMP:20260425T105505
CREATED:20221019T103146Z
LAST-MODIFIED:20221019T103146Z
UID:4679-1668333600-1668366000@accademiaolisticalberodellavita.it
SUMMARY:REIKI – 2° livello - SEDE CORSO ASSISI
DESCRIPTION:sede corso: ASSISI – S\, MARIA DEGLI ANGELI \ndocente: Master Reiki Iolanda Murero \nContributo € 155\, comprensivi di dispensa di studio e attestato di frequenza \n  \nProgramma del corso teorico-pratico \n-Cos’è il Reiki di 2° livello: potenzialità e utilizzi Reiki in connessione con: salute e riequilibrio\n-ricordare e applicare il potere e il potenziale divino -crescita evolutiva -meccanismi di difesa dell’Io\, le strategie – Presentazione degli strumenti di 2° livello: simboli cosmici\, visualizzazione creativa\, verbalizzazione positiva\, rievocazione – Cosa significa essere Canali Reiki: autotrattamento\, trattamento a persone\, piante\, animali\, cibo\, acqua\, oggetti – Iniziazione del 2° Livello Reiki – Condivisione dell’esperienza -Come si utilizzano gli strumenti alternandoli secondo il proprio sentire -Prove pratiche nel sentire i simboli (sulle mani\, nei trattamenti) – Schemi operativi del 2° Livello: come si disegnano i simboli -rapporto disegno simbolo – pronuncia mantra -5 casi di Procedura di Contatto -Sequenza 3° – 2° – 1° -Obiettivo del trattamento -Autotrattamento 2° Livello + forma alternativa di una sola posizione – Trattamento ad altri fisicamente presenti + forma alternativa di una sola posizione -Trattamento ad altri fisicamente NON presenti -Trattamento a situazioni -Trattamento a bambina/o interiore -Trattamento più profondo con essenza del ricevente Altri possibili utilizzi del 2° Livello: ambienti -protezione -casa Reiki – Prova pratica del Sentire: Trattamento di gruppo a una persona lontana. Condivisione dell’esperienza
URL:https://accademiaolisticalberodellavita.it/event/reiki-2-livello-sede-corso-assisi/
END:VEVENT
END:VCALENDAR