BEGIN:VCALENDAR
VERSION:2.0
PRODID:-//Accademia Olistica Albero della Vita - ECPv6.15.19//NONSGML v1.0//EN
CALSCALE:GREGORIAN
METHOD:PUBLISH
X-ORIGINAL-URL:https://accademiaolisticalberodellavita.it
X-WR-CALDESC:Eventi per Accademia Olistica Albero della Vita
REFRESH-INTERVAL;VALUE=DURATION:PT1H
X-Robots-Tag:noindex
X-PUBLISHED-TTL:PT1H
BEGIN:VTIMEZONE
TZID:UTC
BEGIN:STANDARD
TZOFFSETFROM:+0000
TZOFFSETTO:+0000
TZNAME:UTC
DTSTART:20210101T000000
END:STANDARD
END:VTIMEZONE
BEGIN:VEVENT
DTSTART;TZID=UTC:20221119T100000
DTEND;TZID=UTC:20221120T190000
DTSTAMP:20260425T105502
CREATED:20221019T103259Z
LAST-MODIFIED:20250910T211801Z
UID:4681-1668852000-1668970800@accademiaolisticalberodellavita.it
SUMMARY:GLI ELEMENTI RIFLESSI NEI PIEDI: INCONTRO FRA MAPPE CINESI\, FIORI DI BACH E OLI ESSENZIALI – 2° MODULO
DESCRIPTION:IL CORSO SI SVOLGE IN PRESENZA PRESSO ACCADEMIA OLISTICA ALBERO DELLA VITA  \nVIA F. BETTI\, 6 IDICE – S. LAZZARO DI SAVENA  \ndocente: Sonja Demuru \nContributo richiesto: € 179\, comprensivi di dispensa di studio e attestato di frequenza \n  \n  \n\n\n\n.
URL:https://accademiaolisticalberodellavita.it/event/gli-elementi-riflessi-nei-piedi-incontro-fra-mappe-cinesi-fiori-di-bach-e-oli-essenziali-2-modulo/
END:VEVENT
BEGIN:VEVENT
DTSTART;TZID=UTC:20221119T100000
DTEND;TZID=UTC:20221120T190000
DTSTAMP:20260425T105502
CREATED:20221019T103747Z
LAST-MODIFIED:20221019T103747Z
UID:4683-1668852000-1668970800@accademiaolisticalberodellavita.it
SUMMARY: L.E.T. – LIGHT ESSENCE TOUCH™ (con Tecniche degli antichi Esseni)
DESCRIPTION: L.E.T. – LIGHT ESSENCE TOUCH™ (Tecniche degli antichi Esseni)  \nIL CORSO SI SVOLGE IN PRESENZA PRESSO ACCADEMIA OLISTICA ALBERO DELLA VITA VIA F. BETTI\, IDICE–S. LAZZARO DI SAVENA (BO) \ndocente: Maria Cristina Sapori  \nContributo richiesto € 179\, comprensivi di dispensa di studio e attestato di frequenza \nProgramma del corso teorico/pratico \nStudio del campo aurico: pensieri ricorrenti\, stanchezza eccessiva\, stato di uso di malessere come segni di indebolimento della nostra aura \nTecniche di percezione del nostro campo aurico \nTecniche di protezione e ripristino della nostra aura \nVisualizzazione Creativa: tecniche per calmare la mente e connettersi con la fonte interiore di Energia e Consapevolezza \nL.E.T. – LIGHT ESSENCE TOUCH™: trattamenti vibrazionali elaborati da tecniche Essene per lo \nscioglimento dei blocchi energetici e il corretto ripristino del flusso vitale: tecniche manuali\, uso della \nvoce\, utilizzo di oli essenziali e simboli di geometria sacra
URL:https://accademiaolisticalberodellavita.it/event/l-e-t-light-essence-touch-con-tecniche-degli-antichi-esseni/
END:VEVENT
END:VCALENDAR