BEGIN:VCALENDAR
VERSION:2.0
PRODID:-//Accademia Olistica Albero della Vita - ECPv6.15.19//NONSGML v1.0//EN
CALSCALE:GREGORIAN
METHOD:PUBLISH
X-WR-CALNAME:Accademia Olistica Albero della Vita
X-ORIGINAL-URL:https://accademiaolisticalberodellavita.it
X-WR-CALDESC:Eventi per Accademia Olistica Albero della Vita
REFRESH-INTERVAL;VALUE=DURATION:PT1H
X-Robots-Tag:noindex
X-PUBLISHED-TTL:PT1H
BEGIN:VTIMEZONE
TZID:UTC
BEGIN:STANDARD
TZOFFSETFROM:+0000
TZOFFSETTO:+0000
TZNAME:UTC
DTSTART:20220101T000000
END:STANDARD
END:VTIMEZONE
BEGIN:VEVENT
DTSTART;TZID=UTC:20230415T100000
DTEND;TZID=UTC:20230416T190000
DTSTAMP:20260425T015503
CREATED:20230310T085707Z
LAST-MODIFIED:20230310T085707Z
UID:4977-1681552800-1681671600@accademiaolisticalberodellavita.it
SUMMARY:PERCORSO DI TRAS-FORMAZIONE “INLIGHT”:    RISCOPRIRE LA PROPRIA ESSENZA DI LUCE ATTRAVERSO LO YOGA E LA MEDITAZIONE –  2° MODULO
DESCRIPTION:IL CORSO SI VOLGE IN DIRETTA ONLINE SU PIATTAFORMA ZOOM \ndocente: Radhika Francesca Di Scenna \nProgramma del corso teorico esperienziale\n-Riscoprire il principio di Unione Corpo-Mente-Spirito: il Sentiero dello Yoga e della Meditazione. \n-Studio dei principi di Yama e Niyama: come ritrovare la propria serenità interiore attraverso la pratica \ndei primi due Yoga Sutra di Patanjali \n-Riscoprire la propria essenza di Luce attraverso la Meditazione
URL:https://accademiaolisticalberodellavita.it/event/percorso-di-tras-formazione-inlight-riscoprire-la-propria-essenza-di-luce-attraverso-lo-yoga-e-la-meditazione-2-modulo/
END:VEVENT
END:VCALENDAR