BEGIN:VCALENDAR
VERSION:2.0
PRODID:-//Accademia Olistica Albero della Vita - ECPv6.15.19//NONSGML v1.0//EN
CALSCALE:GREGORIAN
METHOD:PUBLISH
X-WR-CALNAME:Accademia Olistica Albero della Vita
X-ORIGINAL-URL:https://accademiaolisticalberodellavita.it
X-WR-CALDESC:Eventi per Accademia Olistica Albero della Vita
REFRESH-INTERVAL;VALUE=DURATION:PT1H
X-Robots-Tag:noindex
X-PUBLISHED-TTL:PT1H
BEGIN:VTIMEZONE
TZID:UTC
BEGIN:STANDARD
TZOFFSETFROM:+0000
TZOFFSETTO:+0000
TZNAME:UTC
DTSTART:20220101T000000
END:STANDARD
END:VTIMEZONE
BEGIN:VEVENT
DTSTART;TZID=UTC:20230520T100000
DTEND;TZID=UTC:20230521T190000
DTSTAMP:20260425T000427
CREATED:20230414T193923Z
LAST-MODIFIED:20230414T193923Z
UID:5245-1684576800-1684695600@accademiaolisticalberodellavita.it
SUMMARY:NUMEROLOGIA EVOLUTIVA INTEGRATA™ - 2° livello
DESCRIPTION:2IL CORSO SI SVOLGE IN DIRETTA ONLINE SU PIATTAFORMA ZOOM\nContributo richiesto € 165\, comprensivi di dispensa di studio\, registrazione dell’intero corso e attestato di frequenza inviati online \nProgramma del corso teorico-pratico\nCome costruire e interpretare il Quadrato di Nascita\nStudio degli Indicatori del Quadrato di Nascita che indicano predisposizioni\, attitudini\, talenti\nComprendere i cambiamenti che avvengono nella vita durante i Cicli dei 9 Anni\nSuddivisione della vita in 4 fasi evolutive: Anni di Picco e Anni di Sfida\nCenni sul legame fra Astrologia e Numerologia Evolutiva Integrata \ndocente: Maria Cristina Sapori
URL:https://accademiaolisticalberodellavita.it/event/numerologia-evolutiva-integrata-2-livello-2/
END:VEVENT
END:VCALENDAR