BEGIN:VCALENDAR
VERSION:2.0
PRODID:-//Accademia Olistica Albero della Vita - ECPv6.15.19//NONSGML v1.0//EN
CALSCALE:GREGORIAN
METHOD:PUBLISH
X-WR-CALNAME:Accademia Olistica Albero della Vita
X-ORIGINAL-URL:https://accademiaolisticalberodellavita.it
X-WR-CALDESC:Eventi per Accademia Olistica Albero della Vita
REFRESH-INTERVAL;VALUE=DURATION:PT1H
X-Robots-Tag:noindex
X-PUBLISHED-TTL:PT1H
BEGIN:VTIMEZONE
TZID:UTC
BEGIN:STANDARD
TZOFFSETFROM:+0000
TZOFFSETTO:+0000
TZNAME:UTC
DTSTART:20220101T000000
END:STANDARD
END:VTIMEZONE
BEGIN:VEVENT
DTSTART;TZID=UTC:20230611T100000
DTEND;TZID=UTC:20230611T190000
DTSTAMP:20260424T204530
CREATED:20230310T093313Z
LAST-MODIFIED:20230310T093313Z
UID:4999-1686477600-1686510000@accademiaolisticalberodellavita.it
SUMMARY:ORIENTAMENTO PROFESSIONALE PER OPERATORI OLISTICI  (EX DEONTOLOGIA)
DESCRIPTION:  \nIL CORSO SI SVOLGE IN DIRETTA ONLINE SU PIATTAFORMA ZOOM \ndocente: Maria Cristina Sapori\nProgramma del corso\nLa presa in carico del cliente\nConsenso informato\, tutela della privacy Rapporti con i clienti e con i colleghi Educazione continua professionale: ECP Aggiornamenti e norme\nSpazio interattivo per domande
URL:https://accademiaolisticalberodellavita.it/event/orientamento-professionale-per-operatori-olistici-ex-deontologia/
END:VEVENT
END:VCALENDAR