BEGIN:VCALENDAR
VERSION:2.0
PRODID:-//Accademia Olistica Albero della Vita - ECPv6.15.19//NONSGML v1.0//EN
CALSCALE:GREGORIAN
METHOD:PUBLISH
X-WR-CALNAME:Accademia Olistica Albero della Vita
X-ORIGINAL-URL:https://accademiaolisticalberodellavita.it
X-WR-CALDESC:Eventi per Accademia Olistica Albero della Vita
REFRESH-INTERVAL;VALUE=DURATION:PT1H
X-Robots-Tag:noindex
X-PUBLISHED-TTL:PT1H
BEGIN:VTIMEZONE
TZID:UTC
BEGIN:STANDARD
TZOFFSETFROM:+0000
TZOFFSETTO:+0000
TZNAME:UTC
DTSTART:20220101T000000
END:STANDARD
END:VTIMEZONE
BEGIN:VEVENT
DTSTART;TZID=UTC:20230721T120000
DTEND;TZID=UTC:20230723T183000
DTSTAMP:20260424T153303
CREATED:20230310T094802Z
LAST-MODIFIED:20230310T094802Z
UID:5016-1689940800-1690137000@accademiaolisticalberodellavita.it
SUMMARY:RESIDENZIALE DI VERIFICA E APPRENDIMENTO TECNICHE IN AGRITURISMO SULLE MERAVIGLIOSE COLLINE DI ASSISI
DESCRIPTION:  \n(IL RESIDENZIALE E’ OBBLIGATORIO SOLO PER CHI FREQUENTA TUTTA LA FORMAZIONE ONLINE) \nTutte le attività si svolgono con la guida dei docenti dell’Accademia \nIl contributo richiesto è comprensivo di vitto\, alloggio\, tutte le lezioni e bagni sonori serali.\nProgramma del residenziale esperienziale\nStudio approfondito e verifica delle tecniche apprese durante l’anno di formazione.
URL:https://accademiaolisticalberodellavita.it/event/residenziale-di-verifica-e-apprendimento-tecniche-in-agriturismo-sulle-meravigliose-colline-di-assisi-2/
ATTACH;FMTTYPE=image/jpeg:https://accademiaolisticalberodellavita.it/wp-content/uploads/2023/03/Assisi-resid-5.jpg
END:VEVENT
END:VCALENDAR