BEGIN:VCALENDAR
VERSION:2.0
PRODID:-//Accademia Olistica Albero della Vita - ECPv6.15.19//NONSGML v1.0//EN
CALSCALE:GREGORIAN
METHOD:PUBLISH
X-WR-CALNAME:Accademia Olistica Albero della Vita
X-ORIGINAL-URL:https://accademiaolisticalberodellavita.it
X-WR-CALDESC:Eventi per Accademia Olistica Albero della Vita
REFRESH-INTERVAL;VALUE=DURATION:PT1H
X-Robots-Tag:noindex
X-PUBLISHED-TTL:PT1H
BEGIN:VTIMEZONE
TZID:UTC
BEGIN:STANDARD
TZOFFSETFROM:+0000
TZOFFSETTO:+0000
TZNAME:UTC
DTSTART:20220101T000000
END:STANDARD
END:VTIMEZONE
BEGIN:VEVENT
DTSTART;TZID=UTC:20230831T203000
DTEND;TZID=UTC:20230831T230000
DTSTAMP:20260424T095707
CREATED:20230801T150343Z
LAST-MODIFIED:20230801T151103Z
UID:6079-1693513800-1693522800@accademiaolisticalberodellavita.it
SUMMARY:ATTIVAZIONE DEL DNA MULTIDIMENSIONALE 2° incontro serale
DESCRIPTION:IL PERCORSO DI ATTIVAZIONE E’ RISERVATO ESCLUSIVAMENTE A CHI HA FATTO IL CORSO SUI 12 RAGGI DI LUCE CON MARIA CRISTINA SAPORI \nORARI CORSO: dalle 20\,30 alle 23 in diretta online su piattaforma ZOOM \nDocente: Maria Cristina Sapori \nProgramma del corso teorico-esperienziale \n-Comprendere cos’è il nostro DNA Multidimensionale\, nel  quale sono contenute tutte le informazioni indispensabili per risvegliare la nostra Coscienza Superiore. Il DNA Multidimensionale è il portale di accesso alle dimensioni superiori e in esso sono racchiusi i nostri talenti e le nostre maestrie. E’ il luogo dove si attiva la connessione con il nostro Sé Superiore e con la nostra saggezza profonda \n-Comprensione e studio di ognuno dei 12 filamenti del DNA Mutidimensionale \n-Attivazione dei1° gruppo di filamenti del nostro DNA Multidimensionale  attraverso l’Intento Puro  per poter accedere all’espressione del nostro pieno potenziale.  \n-Meditazione finale per integrare l’attivazione del proprio DNA Multidimensionale per accedere alla piena consapevolezza del nostro potenziale \nContributo richiesto per ogni incontro € 27\, comprensivi di dispensa di studio. Alla fine dei 4 incontri sarà rilasciato l’attestato di frequenza del percorso.
URL:https://accademiaolisticalberodellavita.it/event/attivazione-del-dna-multidimensionale-2-incontro-serale/
ATTACH;FMTTYPE=image/jpeg:https://accademiaolisticalberodellavita.it/wp-content/uploads/2023/05/dna.jpg
END:VEVENT
END:VCALENDAR