BEGIN:VCALENDAR
VERSION:2.0
PRODID:-//Accademia Olistica Albero della Vita - ECPv6.15.19//NONSGML v1.0//EN
CALSCALE:GREGORIAN
METHOD:PUBLISH
X-ORIGINAL-URL:https://accademiaolisticalberodellavita.it
X-WR-CALDESC:Eventi per Accademia Olistica Albero della Vita
REFRESH-INTERVAL;VALUE=DURATION:PT1H
X-Robots-Tag:noindex
X-PUBLISHED-TTL:PT1H
BEGIN:VTIMEZONE
TZID:UTC
BEGIN:STANDARD
TZOFFSETFROM:+0000
TZOFFSETTO:+0000
TZNAME:UTC
DTSTART:20220101T000000
END:STANDARD
END:VTIMEZONE
BEGIN:VEVENT
DTSTART;TZID=UTC:20231109T203000
DTEND;TZID=UTC:20231109T220000
DTSTAMP:20260424T081750
CREATED:20231016T073335Z
LAST-MODIFIED:20231016T073335Z
UID:6412-1699561800-1699567200@accademiaolisticalberodellavita.it
SUMMARY:GRUPPO DI STUDIO E SUPERVSIONE GRATUITO APERTO A TUTTI COLORO CHE HANNO FATTO IL CORSO: “FLORAL MASSAGE™” approfondimento degli argomenti trattati durante il corso docente: Maria Cristina Sapori  dalle 20\,30 alle 21\,45 su PIATTAFORMA ZOOM
DESCRIPTION:
URL:https://accademiaolisticalberodellavita.it/event/gruppo-di-studio-e-supervsione-gratuito-aperto-a-tutti-coloro-che-hanno-fatto-il-corso-floral-massage-approfondimento-degli-argomenti-trattati-durante-il-corso-docente-mar/
END:VEVENT
END:VCALENDAR