BEGIN:VCALENDAR
VERSION:2.0
PRODID:-//Accademia Olistica Albero della Vita - ECPv6.15.19//NONSGML v1.0//EN
CALSCALE:GREGORIAN
METHOD:PUBLISH
X-WR-CALNAME:Accademia Olistica Albero della Vita
X-ORIGINAL-URL:https://accademiaolisticalberodellavita.it
X-WR-CALDESC:Eventi per Accademia Olistica Albero della Vita
REFRESH-INTERVAL;VALUE=DURATION:PT1H
X-Robots-Tag:noindex
X-PUBLISHED-TTL:PT1H
BEGIN:VTIMEZONE
TZID:UTC
BEGIN:STANDARD
TZOFFSETFROM:+0000
TZOFFSETTO:+0000
TZNAME:UTC
DTSTART:20220101T000000
END:STANDARD
END:VTIMEZONE
BEGIN:VEVENT
DTSTART;TZID=UTC:20231111T100000
DTEND;TZID=UTC:20231112T190000
DTSTAMP:20260424T102339
CREATED:20231016T065620Z
LAST-MODIFIED:20231016T070135Z
UID:6382-1699696800-1699815600@accademiaolisticalberodellavita.it
SUMMARY:RIFLESSOLOGIA EVOLUTIVA INTEGRATA 2° MODULO
DESCRIPTION:IL CORSO SI SVOLGE SOLO IN PRESENZA IN VIA OLMETOLA\, 42 BOLOGNA\ndocente: Sonja Demuru\nContributo richiesto € 189\, comprensivi di dispensa di studio rilegata e attestato di frequenza cartaceo \nProgramma teorico-pratico\nMOVIMENTO LEGNO: COPPIA FEGATO/CISTIFELLEA -Il nutrimento della Terra: Sistema Digestivo -Alimentazione\, Essenze Floreali e Oli Essenziali\n-Le porte del Digestivo\n-Protocollo Sistema Digestivo\nMOVIMENTO FUOCO: COPPIA CUORE/INTESTINO TENUE -Il grande Imperatore\n-Alimentazione\, Essenze Floreali e Oli Essenziali MOVIMENTO TERRA: COPPIA MILZA/STOMACO\n-Il patrimonio ereditato: Il Sistema Linfatico -Alimentazione\, Essenze Floreali e Oli Essenziali -Preparazione olio da massaggio\n-Protocollo Sistema Linfatico\nMASSAGGIO PRELIMINARE
URL:https://accademiaolisticalberodellavita.it/event/riflessologia-evolutiva-integrata-2-modulo/
END:VEVENT
BEGIN:VEVENT
DTSTART;TZID=UTC:20231111T100000
DTEND;TZID=UTC:20231112T190000
DTSTAMP:20260424T102339
CREATED:20231016T070315Z
LAST-MODIFIED:20231016T070315Z
UID:6384-1699696800-1699815600@accademiaolisticalberodellavita.it
SUMMARY:COME CONDURRE UNA SEDUTA IN TECNICHE OLISTICHE
DESCRIPTION:IL CORSO SI SVOLGE IN DIRETTA ONLINE SU PIATTAFORMA ZOOM\ndocente: Maria Cristina Sapori\nContributo richiesto € 155\, comprensivi di dispensa di studio\, attestato di frequenza e registrazione dell’intero corso inviati online \nProgramma del corso teorico-esperienziale\nCome impostare il colloquio con il cliente: empatia\, ascolto attento\, valutazione della tipologia di intervento da attuare\nComprensione degli strumenti e delle tecniche più adeguate ad ogni caso\nRapporto Operatore Olistico – Cliente\nSimulazione in aula di casi specifici con valutazione dell’approccio olistico da attuare
URL:https://accademiaolisticalberodellavita.it/event/come-condurre-una-seduta-in-tecniche-olistiche-2/
ATTACH;FMTTYPE=image/jpeg:https://accademiaolisticalberodellavita.it/wp-content/uploads/2023/08/ORIENTAMENTO.jpg
END:VEVENT
BEGIN:VEVENT
DTSTART;TZID=UTC:20231111T100000
DTEND;TZID=UTC:20231112T190000
DTSTAMP:20260424T102339
CREATED:20231016T070441Z
LAST-MODIFIED:20231016T070441Z
UID:6386-1699696800-1699815600@accademiaolisticalberodellavita.it
SUMMARY:TAROLOGIA EVOLUTIVA 1° LIVELLO
DESCRIPTION:IL CORSO SI SVOLGE IN DIRETTA ONLINE SU PIATTAFORMA\nZOOM\ndocente: Annalisa Ronchi\nContributo richiesto € 168\, comprensivi di dispensa di studio\, registrazione dell’intero corso e attestato di frequenza inviati online \nProgramma teorico-pratico\n-Storia dei Tarocchi (tutti i mazzi)\n-I Tarocchi di Marsiglia\, unici con accezione evolutiva e non divinatoria -Struttura geometrica del numero aurea proprio dei costruttori di cattedrali -Il tarologo come traduttore di un linguaggio arcaico (struttura cifrata) -Metanoia (il libro del Tarot)\n-Simbolismo e parole chiave\n-Arcani Maggiori e Minori (7 piani)\n-Le Mat (il pellegrino)\n-Lame del Tarot\n-I sette arcani della fila terrestre\n-Cartiglio (nome\, icona\, numero) \n\n\n\n\n\n\n-Importanza dei simboli e parole chiave -La Papesse\n-L’Imperatrice\n-L’Empereup \n-Le Pape -L’Amoureux -Le Chariot -Compiti
URL:https://accademiaolisticalberodellavita.it/event/tarologia-evolutiva-1-livello/
END:VEVENT
END:VCALENDAR