BEGIN:VCALENDAR
VERSION:2.0
PRODID:-//Accademia Olistica Albero della Vita - ECPv6.15.19//NONSGML v1.0//EN
CALSCALE:GREGORIAN
METHOD:PUBLISH
X-ORIGINAL-URL:https://accademiaolisticalberodellavita.it
X-WR-CALDESC:Eventi per Accademia Olistica Albero della Vita
REFRESH-INTERVAL;VALUE=DURATION:PT1H
X-Robots-Tag:noindex
X-PUBLISHED-TTL:PT1H
BEGIN:VTIMEZONE
TZID:UTC
BEGIN:STANDARD
TZOFFSETFROM:+0000
TZOFFSETTO:+0000
TZNAME:UTC
DTSTART:20220101T000000
END:STANDARD
END:VTIMEZONE
BEGIN:VEVENT
DTSTART;TZID=UTC:20231118T100000
DTEND;TZID=UTC:20231119T190000
DTSTAMP:20260424T081757
CREATED:20231016T070604Z
LAST-MODIFIED:20231016T070604Z
UID:6388-1700301600-1700420400@accademiaolisticalberodellavita.it
SUMMARY:NUMEROLOGIA EVOLUTIVA INTEGRATA 2° LIVELLO
DESCRIPTION:IL CORSO SI SVOLGE IN DIRETTA ONLINE SU PIATTAFORMA ZOOM docente: Maria Cristina Sapori \nContributo richiesto € 168\, comprensivi di dispensa di studio\, registrazione dell’intero corso e attestato di frequenza inviati online\nProgramma del corso teorico-pratico\n-Come costruire e interpretare il Quadrato di Nascita \n-Studio degli Indicatori del Quadrato di Nascita che indicano predisposizioni\, attitudini -Il Numero dei Talenti: come si ricava\n-Il Numero Personale dell’Anno\n-Comprendere i cambiamenti che avvengono nella vita durante i Cicli dei 9 Anni: -Suddivisione della vita in 4 fasi evolutive: Anni di Picco e Anni di Sfida \n-Cenni sul legame fra Astrologia e Numerologia
URL:https://accademiaolisticalberodellavita.it/event/numerologia-evolutiva-integrata-2-livello-4/
END:VEVENT
BEGIN:VEVENT
DTSTART;TZID=UTC:20231118T100000
DTEND;TZID=UTC:20231119T190000
DTSTAMP:20260424T081757
CREATED:20231016T070806Z
LAST-MODIFIED:20231016T070806Z
UID:6390-1700301600-1700420400@accademiaolisticalberodellavita.it
SUMMARY:CAMPANE TIBETANE E MASSAGGIO ARMONICO 1° LIVELLO
DESCRIPTION:IL CORSO SI SVOLGE SOLO IN PRESENZA IN VIA F. BETTI\, 6 S. LAZZARO DI SAVENA (BO) docente: Mara Ricci\nContributo richiesto € 189\, comprensivi di dispensa di studio rilegata e attestato di frequenza cartaceo \nProgramma del corso teorico-esperienziale\n-Accoglienza e verifica suoni armonici delle campane tibetane eventualmente portate dagli\nallievi -Come riconoscere una campana armonica\n-Che cos’è l‘Armonia: l’Armonia in natura\, in matematica\, in musica.\n-Dimostrazione pratica del suono armonico a frequenza 432 hz e accordatura a 440 hz\, cenni storici. -Suoniamo le campane Tibetane Armoniche a disposizione di tutti.\n-Continuiamo a parlare di Armonia (visione filmato Disney)\n-Esperimenti sull’armonia e sul suono delle Campane Tibetane.\n-Pratica per imparare a suonare\n-Importanza delle campane armoniche e come riconoscerle tra tante\n-Dimostrazione sull’utilizzo del suono per purificare gli ambienti\, i cristalli e tutto ciò che\nsecondo -il nostro sentire ha necessità di essere purificato\n-Pratica con le campane\n-Spiegazione sul suono a distanza\, la rete dei suonatori.\n-Suonare per sé come atto meditativo\n-Approfondimento sull’armonia\, domande e risposte\n-Dimostrazione a coppie sull’intenzione del suono\n-Armonizzazione di gruppo per far sperimentare a tutti il beneficio di un Bagno di Suoni Armonici
URL:https://accademiaolisticalberodellavita.it/event/campane-tibetane-e-massaggio-armonico-1-livello/
END:VEVENT
END:VCALENDAR