BEGIN:VCALENDAR
VERSION:2.0
PRODID:-//Accademia Olistica Albero della Vita - ECPv6.15.19//NONSGML v1.0//EN
CALSCALE:GREGORIAN
METHOD:PUBLISH
X-ORIGINAL-URL:https://accademiaolisticalberodellavita.it
X-WR-CALDESC:Eventi per Accademia Olistica Albero della Vita
REFRESH-INTERVAL;VALUE=DURATION:PT1H
X-Robots-Tag:noindex
X-PUBLISHED-TTL:PT1H
BEGIN:VTIMEZONE
TZID:UTC
BEGIN:STANDARD
TZOFFSETFROM:+0000
TZOFFSETTO:+0000
TZNAME:UTC
DTSTART:20220101T000000
END:STANDARD
END:VTIMEZONE
BEGIN:VEVENT
DTSTART;TZID=UTC:20231125T100000
DTEND;TZID=UTC:20231126T190000
DTSTAMP:20260424T081752
CREATED:20231016T071000Z
LAST-MODIFIED:20231016T071000Z
UID:6392-1700906400-1701025200@accademiaolisticalberodellavita.it
SUMMARY:I FIORI CALIFORNIANI
DESCRIPTION:IL CORSO SI SVOLGE IN DIRETTA ONLINE SU PIATTAFORMA\nZOOM \ndocente: Maria Cristina Sapori \nContributo richiesto € 168\, comprensivi di dispensa di studio\, registrazione dell’intero corso e attestato di frequenza inviati online\nProgramma del corso teorico esperienziale\n-Studio approfondito delle essenze floreali californiane per il riequilibrio vibrazionale di: insicurezza \n– mancanza di autostima – paure – depressione e pessimismo – influenzabilità – mancanza di determinazione e volontà – dipendenze – rabbia e aggressività – esaurimento delle energie – protezione del campo aurico – traumi e shock\n-Osservazione dei fiori e studio delle loro segnature \n\n\n\n\n\n\n-Esempi di miscele di Fiori Californiani\, Fiori di Bach e Australian Bush per il riequilibrio delle emozioni – Indicazioni specifiche per la preparazione di creme e spray a base di essenze floreali e oli essenziali per proteggere il proprio campo energetico e puri care i luoghi in cui viviamo
URL:https://accademiaolisticalberodellavita.it/event/i-fiori-californiani/
END:VEVENT
BEGIN:VEVENT
DTSTART;TZID=UTC:20231126T100000
DTEND;TZID=UTC:20231126T190000
DTSTAMP:20260424T081753
CREATED:20231016T071130Z
LAST-MODIFIED:20231016T071130Z
UID:6394-1700992800-1701025200@accademiaolisticalberodellavita.it
SUMMARY:REIKI 1° LIVELLO
DESCRIPTION:IL CORSO SI SVOLGE SOLO IN PRESENZA IN VIA OLMETOLA\, 42\nBOLOGNA\ndocente: Master Reiki Iolanda Murero\nContributo richiesto € 155\, comprensivi di dispensa di studio rilegata e attestato di frequenza Programma del corso teorico-esperienziale \n– Cosa è Reiki: significato del termine e comprensione del Metodo Originale del Dott. Mikao Usui.\n– Esperienza Reiki in connessione con:\nsalute e disequilibrio \npercezione di realtà\ncrescita evolutiva\n– Effetti del Reiki: cosa succede dopo l’iniziazione a livello:\nfisico\, emozionale\, mentale\, spirituale\n– Cosa significa essere Canali Reiki\n– Cosa sono e come si svolgono le Quattro Iniziazioni\n– Prima e Secondo Iniziazione del 1° Livello Reiki\n– Cenni sui Chakra\n– La pratica del Reiki nel quotidiano\n– Esperimento pseudo kinesiologico con cellulare e tormalina\n– Bilanciatura al Cuore: come si tengono le mani nel Reiki e significato profondo bilanciatura\n– Prova del Sentire: esercizi pratici per sentire l’energia- Auto trattamento: perché farlo e come si fa – Trattamento agli altri: il significato del trattare altre persone e le\ndiverse modalità di esecuzione del trattamento\n– Come si eseguono i vari trattamenti Reiki:\nTrattamento ai bambini -Trattamento agli animali -Trattamento alle piante -Trattamento al cibo e all’acqua -Trattamento ai cristalli\n– Consigli pratici\n– Cosa fare dopo le Iniziazioni: scambi\, auto trattamento e\nosservazione degli effetti che si hanno (purificazione energetica)\n– Terza e Quarta Iniziazione del 1° Livello Reiki\n– Condivisione dell’esperienza.\n– Pratica in aula: scambio Reiki a coppie con verifica della\npressione delle mani
URL:https://accademiaolisticalberodellavita.it/event/reiki-1-livello-14/
END:VEVENT
END:VCALENDAR