BEGIN:VCALENDAR
VERSION:2.0
PRODID:-//Accademia Olistica Albero della Vita - ECPv6.15.19//NONSGML v1.0//EN
CALSCALE:GREGORIAN
METHOD:PUBLISH
X-WR-CALNAME:Accademia Olistica Albero della Vita
X-ORIGINAL-URL:https://accademiaolisticalberodellavita.it
X-WR-CALDESC:Eventi per Accademia Olistica Albero della Vita
REFRESH-INTERVAL;VALUE=DURATION:PT1H
X-Robots-Tag:noindex
X-PUBLISHED-TTL:PT1H
BEGIN:VTIMEZONE
TZID:UTC
BEGIN:STANDARD
TZOFFSETFROM:+0000
TZOFFSETTO:+0000
TZNAME:UTC
DTSTART:20220101T000000
END:STANDARD
END:VTIMEZONE
BEGIN:VEVENT
DTSTART;TZID=UTC:20231202T100000
DTEND;TZID=UTC:20231203T190000
DTSTAMP:20260422T003225
CREATED:20231016T071343Z
LAST-MODIFIED:20231016T071343Z
UID:6396-1701511200-1701630000@accademiaolisticalberodellavita.it
SUMMARY:TECNICA METAMORFICA - CORSO BASE
DESCRIPTION:IL CORSO SI SVOLGE IN VIA F. BETTI\, 6 S. LAZZARO DI SAVENA (BO) E CONTEMPORANEAMENTE IN DIRETTA ONLINE SU PIATTAFORMA ZOOM\ndocente: Sonja Demuru\nContributo richiesto per il corso in aula € 189 comprensivi di dispensa di studio rilegata\, registrazione dell’intero corso e attestato di frequenza cartaceo \nContributo richiesto per il corso in diretta online su piattaforma ZOOM € 168\, comprensivi di dispensa di studio\, registrazione dell’intero corso e attestato di frequenza inviati online\nProgramma teorico – pratico\nRobert St. John e l’evoluzione dalla Riflessologia plantare alla Tecnica Metamorfica. \nLo schema prenatale: dal pre-concepimento alla nascita. Quando la Coscienza fa il suo ingresso nella nuova vita in divenire?\nIl ruolo delle influenze nella nostra realizzazione sulla terra: Influenze Materiali e Influenze non Materiali. \nIl principio delle Corrispondenze: tessuti duri\, tessuti molli\, fluidi – Energia\, Pensiero\, Emozioni. L’approccio dell’Operatore e l’importanza della non motivazione.\nLa pratica: a chi è rivolta la Tecnica Metamorfica?\n– Trattamento ai piedi \n-Trattamento alle mani -Trattamento \n\n\n\n\n\n\nalla testa\n-Trattamento a\ndistanza\n-Durata e frequenza\n-L’Operatore\n-Massaggio finale con Essenze Floreali e Oli Essenziali per armonizzare le aree del Pensare/Sentire/Volere.
URL:https://accademiaolisticalberodellavita.it/event/tecnica-metamorfica-corso-base/
END:VEVENT
END:VCALENDAR