BEGIN:VCALENDAR
VERSION:2.0
PRODID:-//Accademia Olistica Albero della Vita - ECPv6.15.19//NONSGML v1.0//EN
CALSCALE:GREGORIAN
METHOD:PUBLISH
X-WR-CALNAME:Accademia Olistica Albero della Vita
X-ORIGINAL-URL:https://accademiaolisticalberodellavita.it
X-WR-CALDESC:Eventi per Accademia Olistica Albero della Vita
REFRESH-INTERVAL;VALUE=DURATION:PT1H
X-Robots-Tag:noindex
X-PUBLISHED-TTL:PT1H
BEGIN:VTIMEZONE
TZID:UTC
BEGIN:STANDARD
TZOFFSETFROM:+0000
TZOFFSETTO:+0000
TZNAME:UTC
DTSTART:20220101T000000
END:STANDARD
END:VTIMEZONE
BEGIN:VEVENT
DTSTART;TZID=UTC:20231209T100000
DTEND;TZID=UTC:20231210T190000
DTSTAMP:20260422T003225
CREATED:20231016T071542Z
LAST-MODIFIED:20231016T071542Z
UID:6398-1702116000-1702234800@accademiaolisticalberodellavita.it
SUMMARY:TAROLOGIA EVOLUTIVA 2° LIVELLO
DESCRIPTION:IL CORSO SI SVOLGE IN DIRETTA ONLINE SU PIATTAFORMA\nZOOM\ndocente: Annalisa Ronchi\nContributo richiesto € 168\, comprensivi di dispensa di studio\, registrazione dell’intero corso e attestato di frequenza inviati online \nProgramma del corso teorico-pratico -Domande e risposte sulla parte precedente -La fila del Bodhisatva\n-La Justice\n-L’Hermete\n-La Rove de Fortune\n-La Force (centro del diagramma 3×7)\n-Le Pendu\n-Arcano senza nome\n-Temperance\n-La file celeste (terzo livello)\n-Le Diable\n-La Maison Diev\n-Le Toille\n-La Lune\n-Le Soleil\n-Le Jugement\n-Le Monde
URL:https://accademiaolisticalberodellavita.it/event/tarologia-evolutiva-2-livello/
END:VEVENT
END:VCALENDAR