BEGIN:VCALENDAR
VERSION:2.0
PRODID:-//Accademia Olistica Albero della Vita - ECPv6.15.19//NONSGML v1.0//EN
CALSCALE:GREGORIAN
METHOD:PUBLISH
X-ORIGINAL-URL:https://accademiaolisticalberodellavita.it
X-WR-CALDESC:Eventi per Accademia Olistica Albero della Vita
REFRESH-INTERVAL;VALUE=DURATION:PT1H
X-Robots-Tag:noindex
X-PUBLISHED-TTL:PT1H
BEGIN:VTIMEZONE
TZID:UTC
BEGIN:STANDARD
TZOFFSETFROM:+0000
TZOFFSETTO:+0000
TZNAME:UTC
DTSTART:20220101T000000
END:STANDARD
END:VTIMEZONE
BEGIN:VEVENT
DTSTART;TZID=UTC:20231221T210000
DTEND;TZID=UTC:20231221T220000
DTSTAMP:20260422T003233
CREATED:20231016T073901Z
LAST-MODIFIED:20231202T161548Z
UID:6424-1703192400-1703196000@accademiaolisticalberodellavita.it
SUMMARY:“CERIMONIA DEL FUOCO IN PREPARAZIONE DEL NATALE” LA SERATA SI SVOLGE IN VIA PONTEBUCO\, 7/A S. LAZZARO DI SAVENA (BO) E IN DIRETTA ONLINE SU PIATTAFORMA ZOOM  condotta da Maria Cristina\, Alessio Bennati\, Linda Ferioli dalle 21 alle 22\,30
DESCRIPTION:
URL:https://accademiaolisticalberodellavita.it/event/cerimonia-del-fuoco-in-preparazione-del-natale-la-serata-si-svolge-in-diretta-online-su-piattaforma-zoom-e-se-sara-possibile-anche-in-presenza-condotta-da-maria-cristina-al/
END:VEVENT
END:VCALENDAR