BEGIN:VCALENDAR
VERSION:2.0
PRODID:-//Accademia Olistica Albero della Vita - ECPv6.15.19//NONSGML v1.0//EN
CALSCALE:GREGORIAN
METHOD:PUBLISH
X-WR-CALNAME:Accademia Olistica Albero della Vita
X-ORIGINAL-URL:https://accademiaolisticalberodellavita.it
X-WR-CALDESC:Eventi per Accademia Olistica Albero della Vita
REFRESH-INTERVAL;VALUE=DURATION:PT1H
X-Robots-Tag:noindex
X-PUBLISHED-TTL:PT1H
BEGIN:VTIMEZONE
TZID:UTC
BEGIN:STANDARD
TZOFFSETFROM:+0000
TZOFFSETTO:+0000
TZNAME:UTC
DTSTART:20230101T000000
END:STANDARD
END:VTIMEZONE
BEGIN:VEVENT
DTSTART;TZID=UTC:20240208T203000
DTEND;TZID=UTC:20240208T220000
DTSTAMP:20260421T211353
CREATED:20240224T115113Z
LAST-MODIFIED:20240224T115113Z
UID:6849-1707424200-1707429600@accademiaolisticalberodellavita.it
SUMMARY:ESAME FINALE PER IL TITOLO DI “OPERATORE IN RIFLESSOLOGIA PLANTARE OLISTICA INTEGRATA”
DESCRIPTION:docente: Sonja Demuru\ni dettagli verranno comunicati direttamente nel gruppo whatsapp di Riflessologia Plantare Olistica Integrata
URL:https://accademiaolisticalberodellavita.it/event/esame-finale-per-il-titolo-di-operatore-in-riflessologia-plantare-olistica-integrata/
END:VEVENT
END:VCALENDAR