BEGIN:VCALENDAR
VERSION:2.0
PRODID:-//Accademia Olistica Albero della Vita - ECPv6.15.19//NONSGML v1.0//EN
CALSCALE:GREGORIAN
METHOD:PUBLISH
X-WR-CALNAME:Accademia Olistica Albero della Vita
X-ORIGINAL-URL:https://accademiaolisticalberodellavita.it
X-WR-CALDESC:Eventi per Accademia Olistica Albero della Vita
REFRESH-INTERVAL;VALUE=DURATION:PT1H
X-Robots-Tag:noindex
X-PUBLISHED-TTL:PT1H
BEGIN:VTIMEZONE
TZID:UTC
BEGIN:STANDARD
TZOFFSETFROM:+0000
TZOFFSETTO:+0000
TZNAME:UTC
DTSTART:20230101T000000
END:STANDARD
END:VTIMEZONE
BEGIN:VEVENT
DTSTART;TZID=UTC:20240224T100000
DTEND;TZID=UTC:20240225T190000
DTSTAMP:20260421T211419
CREATED:20231202T163601Z
LAST-MODIFIED:20231202T163601Z
UID:6495-1708768800-1708887600@accademiaolisticalberodellavita.it
SUMMARY:TAROLOGIA EVOLUTIVA – 3° LIVELLO
DESCRIPTION:  \nIL CORSO SI SVOLGE IN DIRETTA ONLINE SU PIATTAFORMA ZOOM\ndocente: Annalisa Ronchi\nContributo richiesto € 168\, comprensivi di dispensa di studio\, registrazione dell’intero corso e attestato di frequenza inviati online\nProgramma teorico-pratico\nI 56 Arcani Minori\nMondo terrestre\n10 carte numerali + 4 Onori = 14 per ogni seme\nFila terrestre Arcani Maggiori Arcani Minori (2 volte il mondo terrestre)\nIL gioco del mondo (per vedere se la personalità è in equilibrio)\nI 5 elementi/4 piani\nGli onori\nGli Assi\nI Numerali\nDensità e polarità\nA cosa serve il numero (compiti)
URL:https://accademiaolisticalberodellavita.it/event/tarologia-evolutiva-3-livello/
END:VEVENT
BEGIN:VEVENT
DTSTART;TZID=UTC:20240224T100000
DTEND;TZID=UTC:20240225T190000
DTSTAMP:20260421T211419
CREATED:20231202T163852Z
LAST-MODIFIED:20231202T163852Z
UID:6500-1708768800-1708887600@accademiaolisticalberodellavita.it
SUMMARY:USUI RYOHO - TECNICHE ORIGINALI REIKI DI MIKAO USUI Integrazione e approfondimento
DESCRIPTION:IL CORSO E’ APERTO SOLO A CHI HA FREQUENTATO ALMENO IL 1° LIVELLO DI REIKI IL CORSO SI SVOLGE IN VIA OLMETOLA\, 42 BOLOGNA \ndocente: Master Reiki Jolanda Murero \nContributo richiesto € 189\, comprensivi di dispensa di studio\, registrazione dell’intero corso e attestato di frequenza inviati online\nProgramma del corso teorico-esperienziale\nI Simboli Reiki \nI tre pilastri del Reiki di Usui: Gassho Meiso\, Reji-Ho\, Chiryo I principi del Reiki (apprendimento)\nGassho Meiso: la meditazione Reiki \n\n\n\n\n\n\nReji-Ho: centratura per dirigere lo spirito\nByosen: scanning\, tecnica di rilevazione energetica\nKenyoku: purificarsi e scaricare le energie disarmoniche\nObarodo Mizu: caricare l’acqua con il Reiki\nSouhou Reiki: contatto Reiki\nShourei Shokubutsu: comunicare alle piante con il Reiki\nKoki-Ho: trasmettere Reiki con il respiro\nReiki Undo: tecnica di movimento Reiki\nSei Heki Chiryo: tecnica per il trattamento delle abitudini\nHesso Chiryo: tecnica di riequilibrio dall’ombelico\nShu Chu-Reiki: Reiki di gruppo concentrato\nAibu Reiki: carezza Reiki\nGyoshi-Ho: trasmissione del Reiki attraverso gli occhi\nMawashi Reiki: la corrente di energia\nJoshin Kokyu-Ho: tecnica di respirazione purificante\nHiroimono Jibutsu: ritrovare gli oggetti perduti\nJunsei Kuuhaku: purificazione dello spazio\nYakushoku Reiki: Antenna Reiki\, tecnica di concentrazione dell’energia Jacki-Kiri Joka-Ho\, trasformare l’energie disarmoniche\nGenetsu-Ho\, tecnica di Usui per riequilibrare la temperatura corporea Byogen Chiryo: trattamento dell’origine della disarmonia fisica\nEnkaku Chiryo: trattamenti a distanza\nHanshin Chiryo: tecnica di strofinamento\nHanshin Koketsu-Ho: tecnica di strofinamento dei piedi\nTanden Chiryo: trattamento del Tanden\nGedoku-Ho: tecnica disintossicante\nShian: Meditazione Tantrica attraverso Choku-Rei\nIniziazione Reiju
URL:https://accademiaolisticalberodellavita.it/event/usui-ryoho-tecniche-originali-reiki-di-mikao-usui-integrazione-e-approfondimento/
END:VEVENT
END:VCALENDAR