BEGIN:VCALENDAR
VERSION:2.0
PRODID:-//Accademia Olistica Albero della Vita - ECPv6.15.19//NONSGML v1.0//EN
CALSCALE:GREGORIAN
METHOD:PUBLISH
X-ORIGINAL-URL:https://accademiaolisticalberodellavita.it
X-WR-CALDESC:Eventi per Accademia Olistica Albero della Vita
REFRESH-INTERVAL;VALUE=DURATION:PT1H
X-Robots-Tag:noindex
X-PUBLISHED-TTL:PT1H
BEGIN:VTIMEZONE
TZID:UTC
BEGIN:STANDARD
TZOFFSETFROM:+0000
TZOFFSETTO:+0000
TZNAME:UTC
DTSTART:20230101T000000
END:STANDARD
END:VTIMEZONE
BEGIN:VEVENT
DTSTART;TZID=UTC:20240316T100000
DTEND;TZID=UTC:20240317T190000
DTSTAMP:20260421T193010
CREATED:20231202T164814Z
LAST-MODIFIED:20231202T164814Z
UID:6511-1710583200-1710702000@accademiaolisticalberodellavita.it
SUMMARY:CAMPANE TIBETANE E MASSAGGIO SONORO – 3° LIVELLO
DESCRIPTION:IL CORSO SI SVOLGE SOLO IN PRESENZA IN VIA F. BETTI\, 6 S. LAZZARO DI SAVENA (BO) docente: Mara Ricci\nContributo richiesto € 189\, comprensivi di dispensa di studio rilegata e attestato di frequenza cartaceo \nProgramma del corso teorico-esperienziale\nNel terzo week end si approfondiranno le tecniche di Massaggio Sonoro Armonico sul corpo fisico e su quello aurico.\nVerranno inoltre presentati altri strumenti armonici\, come il Diapason\, la campana tubolare per l’armonizzatore dei chakra e saranno dati suggerimenti su come crearsi una propria tecnica di armonizzazione\, utilizzando ciò di cui si dispone\, anche eventuali altri strumenti\, diversi da quelli messi a disposizione dall’insegnante. Nel dettaglio:\nAccoglienza e pratica del Massaggio Sonoro supino\nDimostrazione Massaggio Sonoro prono\nPratica Massaggio Sonoro prono e scambi\nApprofondimenti sulla pratica\, dubbi\, domande e delucidazioni\nPratica per sé e per gli altri\nI diapason e il loro utilizzo. Prove pratiche\nPratica e scambi a coppie\nAltri strumenti armonici\, breve spiegazione e carrellata e come usarli e come integrarli nel trattamento. Prove pratiche
URL:https://accademiaolisticalberodellavita.it/event/campane-tibetane-e-massaggio-sonoro-3-livello-2/
END:VEVENT
BEGIN:VEVENT
DTSTART;TZID=UTC:20240316T100000
DTEND;TZID=UTC:20240317T190000
DTSTAMP:20260421T193010
CREATED:20240223T185253Z
LAST-MODIFIED:20240224T120727Z
UID:6774-1710583200-1710702000@accademiaolisticalberodellavita.it
SUMMARY: ALIMENTAZIONE NATURALE BIO-ENERGETICA
DESCRIPTION:  \nIL CORSO RILASCIA 32 CREDITI ECP PER L’AGGIORNAMENTO PROFESSIONALE DEGLI OPERATORI ISCRITTI A TUTTI I REGISTRI PROFESSIONALI DI SIAF Italia AI SENSI LEGGE 04/2013 \nIL CORSO SI SVOLGE IN DIRETTA ONLINE SU PIATTAFORMA ZOOM  \ndocente: Maria Cristina Sapori                                                                                                    \nContributo richiesto € 168\, comprensivi di dispensa di studio\, attestato di frequenza\, \nregistrazione dell’intero corso e video professionale dei trattamenti insegnati inviati online \nProgramma del corso \n-Gruppi alimentari: carboidrati\, proteine\, grassi\, fibre: impariamo a conoscerli e scopriamo la loro qualità energetica \n– Visione energetica del cibo in modo che diventi un vero nutrimento \n-Acqua e sue funzioni \n-Zucchero\, fruttosio\, edulcoranti: capiamo la differenza \n-I condimenti: come utilizzarli per mantenere il proprio naturale benessere \n-Sale integrale e sale himalayano: come utilizzarli come alleati per il proprio benessere \n-Cottura degli alimenti: come aumentare il valore nutritivo degli alimenti ed evitare gli effetti tossici delle alte temperature \n-Le combinazioni alimentari \n-Il digiuno ed i suoi effetti nell’organismo umano \n-Allergie e intolleranze alimentari\, capiamo la differenza \n-Comprendere i vari modelli di alimentazione: igienismo\, macrobiotica\, dieta Kousmine\, dieta dissociata\, vegetariana\, vegana\, ecc. \n-Educazione al benessere: imparare a leggere le etichette e scegliere con consapevolezza \n-Cibo ed emozioni\, sviluppare la consapevolezza rispetto al proprio rapporto con il cibo \n-Come nutrirsi per mantenere il giusto speso e sentirsi in forma: programmi alimentari per i diversi stili di vita \n-Domande e risposte
URL:https://accademiaolisticalberodellavita.it/event/alimentazione-naturale-bio-energetica/
END:VEVENT
END:VCALENDAR