BEGIN:VCALENDAR
VERSION:2.0
PRODID:-//Accademia Olistica Albero della Vita - ECPv6.15.19//NONSGML v1.0//EN
CALSCALE:GREGORIAN
METHOD:PUBLISH
X-ORIGINAL-URL:https://accademiaolisticalberodellavita.it
X-WR-CALDESC:Eventi per Accademia Olistica Albero della Vita
REFRESH-INTERVAL;VALUE=DURATION:PT1H
X-Robots-Tag:noindex
X-PUBLISHED-TTL:PT1H
BEGIN:VTIMEZONE
TZID:UTC
BEGIN:STANDARD
TZOFFSETFROM:+0000
TZOFFSETTO:+0000
TZNAME:UTC
DTSTART:20230101T000000
END:STANDARD
END:VTIMEZONE
BEGIN:VEVENT
DTSTART;TZID=UTC:20240406T100000
DTEND;TZID=UTC:20240407T190000
DTSTAMP:20260421T174304
CREATED:20231202T164300Z
LAST-MODIFIED:20240224T073523Z
UID:6504-1712397600-1712516400@accademiaolisticalberodellavita.it
SUMMARY:NUMEROLOGIA EVOLUTIVA INTEGRATA™: COME ARMONIZZARE E POTENZIARE I PROPRI NUMERI DI NASCITA ATTRAVERSO L’UTILIZZO DI: GEOMETRIE SACRE\, MANDALA\, PAROLE DI LUCE E GRIGLIE DI CRISTALLI
DESCRIPTION:NUMEROLOGIA EVOLUTIVA INTEGRATA™: COME ARMONIZZARE E POTENZIARE I PROPRI NUMERI DI NASCITA ATTRAVERSO L’UTILIZZO DI: GEOMETRIE SACRE\, MANDALA\, PAROLE DI LIUCE E GRIGLIE DI CRISTALLI \nIL CORSO SI SVOLGE IN VIA F. BETTI\, 6 S. LAZZARO DI SAVENA (BO) E CONTEMPORANEAMENTE IN DIRETTA ONLINE SU PIATTAFORMA ZOOM\ndocente: Maria Cristina Sapori\nContributo richiesto per il corso in aula € 189 comprensivi di dispensa di studio rilegata\, registrazione dell’intero corso e attestato di frequenza cartaceo \nContributo richiesto per il corso in diretta online su piattaforma ZOOM € 168\, comprensivi di dispensa Programma del corso teorico-pratico\n-Geometria Sacra: la struttura sottile del nostro Universo e del nostro sistema corpo/mente/emozioni -Studio approfondito e utilizzo pratico della Geometria Sacra in abbinamento ai nostri Numeri di Nascita e in particolare di: \n-Fiore della Vita\n-Cubo di Metratron (composto dai 5 solidi platonici) detto anche Frutto della Vita -Stella a 5 punte (Pentacolo)\n-Stella a 6 Punte (Merkaba)\n-Croce Ansata (ANK) o Croce Celtica\n-Shefa (antico Simbolo Sacro ebraico)\n-Studio approfondito e utilizzo dei Simboli Sacri con inserimento dei nostri Numeri di Nascita per armonizzarli e potenziarli\n-Costruzione e utilizzo delle Griglie Cristalline in abbinamento con la Geometria Sacra\, con studio approfondito dei 12 Cristalli abbinati ai 12 Numeri di Mission:\n-Numero 1: pirite\n-Numero 2: crisoprasio\n-Numero 3: pietra del sole\n-Numero 4: rodonite\n-Numero 5: angelite\n-Numero 6: selenite\n-Numero 7: quarzo girasole\n-Numero 8: kunzite\n-Numero 9: labradorite\n-Numero 10: quarzo fumè\n-Numero 11: moldavite\n-Numero 12: staurolite\n-Esempi pratici e studio di casi portati dagli allievi con esempi di costruzioni di Griglie Cristalline sulle Geometrie Sacre
URL:https://accademiaolisticalberodellavita.it/event/numerologia-evolutiva-integrata-come-armonizzare-e-potenziare-i-propri-numeri-di-nascita-attraverso-lutilizzo-di-geometrie-sacre-mandala-parole-di-liuce-e-griglie-di-cristalli/
END:VEVENT
END:VCALENDAR