BEGIN:VCALENDAR
VERSION:2.0
PRODID:-//Accademia Olistica Albero della Vita - ECPv6.15.19//NONSGML v1.0//EN
CALSCALE:GREGORIAN
METHOD:PUBLISH
X-WR-CALNAME:Accademia Olistica Albero della Vita
X-ORIGINAL-URL:https://accademiaolisticalberodellavita.it
X-WR-CALDESC:Eventi per Accademia Olistica Albero della Vita
REFRESH-INTERVAL;VALUE=DURATION:PT1H
X-Robots-Tag:noindex
X-PUBLISHED-TTL:PT1H
BEGIN:VTIMEZONE
TZID:UTC
BEGIN:STANDARD
TZOFFSETFROM:+0000
TZOFFSETTO:+0000
TZNAME:UTC
DTSTART:20230101T000000
END:STANDARD
END:VTIMEZONE
BEGIN:VEVENT
DTSTART;TZID=UTC:20240420T100000
DTEND;TZID=UTC:20240421T190000
DTSTAMP:20260421T174305
CREATED:20240223T190349Z
LAST-MODIFIED:20250910T210249Z
UID:6782-1713607200-1713726000@accademiaolisticalberodellavita.it
SUMMARY:RIFLESSOLOGIA PLANTARE SECONDO LE MAPPE CINESI 2° LIVELLO
DESCRIPTION:  \n2° LIVELLO \nIL CORSO SI SVOLGE SOLO IN PRESENZA IN VIA PONTEBUCO 7/A S. LAZZARO DI SAVENA (BO) \ndocente: Sonja Demuru \nContributo richiesto per il corso in aula € 189 comprensivi di dispensa di studio rilegata\, registrazione dell’intero corso e attestato di frequenza cartaceo \n 
URL:https://accademiaolisticalberodellavita.it/event/on-zon-su-riflessologia-plantare-secondo-le-mappe-cinesi-2-livello/
END:VEVENT
END:VCALENDAR