BEGIN:VCALENDAR
VERSION:2.0
PRODID:-//Accademia Olistica Albero della Vita - ECPv6.15.19//NONSGML v1.0//EN
CALSCALE:GREGORIAN
METHOD:PUBLISH
X-ORIGINAL-URL:https://accademiaolisticalberodellavita.it
X-WR-CALDESC:Eventi per Accademia Olistica Albero della Vita
REFRESH-INTERVAL;VALUE=DURATION:PT1H
X-Robots-Tag:noindex
X-PUBLISHED-TTL:PT1H
BEGIN:VTIMEZONE
TZID:UTC
BEGIN:STANDARD
TZOFFSETFROM:+0000
TZOFFSETTO:+0000
TZNAME:UTC
DTSTART:20230101T000000
END:STANDARD
END:VTIMEZONE
BEGIN:VEVENT
DTSTART;TZID=UTC:20240511T100000
DTEND;TZID=UTC:20240512T190000
DTSTAMP:20260421T155502
CREATED:20240223T200244Z
LAST-MODIFIED:20240223T200244Z
UID:6790-1715421600-1715540400@accademiaolisticalberodellavita.it
SUMMARY:CHAKRA REBALANCING 2° MODULO
DESCRIPTION:IL CORSO SI SVOLGE IN VIA F. BETTI\, 6 S. LAZZARO DI SAVENA (BO) E CONTEMPORANEAMENTE IN DIRETTA ONLINE SU PIATTAFORMA ZOOM \ndocente: Maria Cristina Sapori \nContributo richiesto per il corso in aula € 189 comprensivi di dispensa di studio rilegata\, registrazione dell’intero corso e attestato di frequenza cartaceo \nContributo richiesto per il corso in diretta online su piattaforma ZOOM € 168\, comprensivi di dispensa di studio\, registrazione dell’intero corso e attestato di frequenza inviati online \nProgramma teorico – pratico \n-Studio dei campi di energia sottile: Nodi di Hartmann\, Linee di Curry\, Ley Lines: tecniche e geometria sacra per riportare armonia negli ambienti\n-Imparare ad ascoltare la propria Voce Interiore per vivere in armonia: meditazioni creative e tecniche di riequilibrio vibrazionale\n-Leggi karmiche: comprensione della legge di causa-effetto e meditazioni per la comprensione dei propri nodi karmici\n-Affermazioni per il riequilibrio delle energie sottili -Studio e preparazione di miscele floreali\, oli essenziali e Acque di Luce per la pulizia del campo aurico\, il riequilibrio dei Chakra\, la purificazione dell’ambiente e l’attivazione delle proprie risorse interiori
URL:https://accademiaolisticalberodellavita.it/event/chakra-rebalancing-2-modulo-2/
END:VEVENT
END:VCALENDAR