BEGIN:VCALENDAR
VERSION:2.0
PRODID:-//Accademia Olistica Albero della Vita - ECPv6.15.19//NONSGML v1.0//EN
CALSCALE:GREGORIAN
METHOD:PUBLISH
X-WR-CALNAME:Accademia Olistica Albero della Vita
X-ORIGINAL-URL:https://accademiaolisticalberodellavita.it
X-WR-CALDESC:Eventi per Accademia Olistica Albero della Vita
REFRESH-INTERVAL;VALUE=DURATION:PT1H
X-Robots-Tag:noindex
X-PUBLISHED-TTL:PT1H
BEGIN:VTIMEZONE
TZID:UTC
BEGIN:STANDARD
TZOFFSETFROM:+0000
TZOFFSETTO:+0000
TZNAME:UTC
DTSTART:20230101T000000
END:STANDARD
END:VTIMEZONE
BEGIN:VEVENT
DTSTART;TZID=UTC:20240616T090000
DTEND;TZID=UTC:20240616T130000
DTSTAMP:20260421T141927
CREATED:20240223T202713Z
LAST-MODIFIED:20240223T202713Z
UID:6809-1718528400-1718542800@accademiaolisticalberodellavita.it
SUMMARY: ESAME FINALE PER IL TITOLO DI OPERATORE OLISTICO VIBRAZIONALE INTEGRATO
DESCRIPTION:  \nSEDE ESAME: ACCADEMIA OLISTICA ALBERO DELLAVITA VIA F. BETTI\, 6  \nIDICE – S. LAZZARO DI SAVENA (BO) \ndalle 9\,30 alle 13 \nContributo per la sessione d’esame e la supervisione per la stesura dell’elaborato finale € 95
URL:https://accademiaolisticalberodellavita.it/event/esame-finale-per-il-titolo-di-operatore-olistico-vibrazionale-integrato/
ATTACH;FMTTYPE=image/jpeg:https://accademiaolisticalberodellavita.it/wp-content/uploads/2024/02/ESAME-FINALE-GENNAIO-2024-2.jpg
END:VEVENT
BEGIN:VEVENT
DTSTART;TZID=UTC:20240616T100000
DTEND;TZID=UTC:20240616T190000
DTSTAMP:20260421T141927
CREATED:20240223T202940Z
LAST-MODIFIED:20240223T202940Z
UID:6812-1718532000-1718564400@accademiaolisticalberodellavita.it
SUMMARY:REIKI – 2° LIVELLO
DESCRIPTION:IL CORSO SI SVOLGE SOLO IN PRESENZA IN VIA PONTEBUCO\, 7/A SAN LAZZARO DI SAVENA (BO) \ndocente: Master Reiki Jolanda Murero \nContributo richiesto € 165\, comprensivi di dispensa di studio rilegata e attestato di frequenza cartaceo \nProgramma del corso teorico esperienziale \n-Cos’è il Reiki di 2° livello: potenzialità e utilizzi Reiki in connessione con: salute e riequilibrio-ricordare e applicare il potere e il potenziale divino -crescita evolutiva -meccanismi di difesa dell’Io\, le strategie – Presentazione degli strumenti di 2° livello: simboli cosmici\, visualizzazione creativa\, verbalizzazione positiva\, rievocazione – Cosa significa essere Canali Reiki: autotrattamento\, trattamento a persone\, piante\, animali\, cibo\, acqua\, oggetti – Iniziazione del 2° Livello Reiki – Condivisione dell’esperienza -Come si utilizzano gli strumenti alternandoli secondo il proprio sentire -Prove pratiche nel sentire i simboli (sulle mani\, nei trattamenti) – Schemi operativi del 2° Livello: come si disegnano i simboli -rapporto disegno simbolo – pronuncia mantra -5 casi di Procedura di Contatto -Sequenza 3° – 2° – 1° -Obiettivo del trattamento -Autotrattamento 2° Livello + forma alternativa di una sola posizione – Trattamento ad altri fisicamente presenti + forma alternativa di una sola posizione -Trattamento ad altri fisicamente NON presenti -Trattamento a situazioni -Trattamento a bambina/o interiore -Trattamento più profondo con essenza del ricevente Altri possibili utilizzi del 2° Livello: ambienti -protezione -casa Reiki – Prova pratica del Sentire: Trattamento di gruppo a una persona lontana. Condivisione dell’esperienza
URL:https://accademiaolisticalberodellavita.it/event/reiki-2-livello-5/
END:VEVENT
END:VCALENDAR