BEGIN:VCALENDAR
VERSION:2.0
PRODID:-//Accademia Olistica Albero della Vita - ECPv6.15.19//NONSGML v1.0//EN
CALSCALE:GREGORIAN
METHOD:PUBLISH
X-WR-CALNAME:Accademia Olistica Albero della Vita
X-ORIGINAL-URL:https://accademiaolisticalberodellavita.it
X-WR-CALDESC:Eventi per Accademia Olistica Albero della Vita
REFRESH-INTERVAL;VALUE=DURATION:PT1H
X-Robots-Tag:noindex
X-PUBLISHED-TTL:PT1H
BEGIN:VTIMEZONE
TZID:UTC
BEGIN:STANDARD
TZOFFSETFROM:+0000
TZOFFSETTO:+0000
TZNAME:UTC
DTSTART:20230101T000000
END:STANDARD
END:VTIMEZONE
BEGIN:VEVENT
DTSTART;TZID=UTC:20240629T100000
DTEND;TZID=UTC:20240630T190000
DTSTAMP:20260421T141927
CREATED:20240223T203343Z
LAST-MODIFIED:20240223T203343Z
UID:6817-1719655200-1719774000@accademiaolisticalberodellavita.it
SUMMARY:L.E.T. – LIGHT ESSENCE TOUCH – (con tecniche degli antichi Esseni)
DESCRIPTION:IL CORSO SI SVOLGE IN VIA F. BETTI\, 6 S. LAZZARO DI SAVENA (BO) E CONTEMPORANEAMENTE IN DIRETTA ONLINE SU PIATTAFORMA ZOOM                                  \ndocente: Maria Cristina Sapori\nContributo richiesto € 189\, comprensivi di dispensa di studio\, attestato di frequenza + video professionale delle tecniche insegnate                                                                                 Contributo richiesto per il corso in diretta online su piattaforma ZOOM € 168\, comprensivi di dispensa di studio\, registrazione dell’intero corso e attestato di frequenza inviati online\nProgramma del corso teorico/pratico\n-Studio del campo aurico: pensieri ricorrenti\, stanchezza eccessiva\, stato di uso di malessere come segni di indebolimento della nostra aura\n-Tecniche di percezione del nostro campo aurico\n-Tecniche di protezione e ripristino della nostra aura\n-Visualizzazione Creativa: tecniche per calmare la mente e connettersi con la fonte interiore di Energia e Consapevolezza\n-L.E.T. – LIGHT ESSENCE TOUCHTM: trattamenti vibrazionali elaborati da tecniche Essene per lo scioglimento dei blocchi energetici e il corretto ripristino del flusso vitale: tecniche manuali\, uso della voce\, utilizzo di oli essenziali e simboli di geometria sacra\n-Pratica in aula
URL:https://accademiaolisticalberodellavita.it/event/l-e-t-light-essence-touch-con-tecniche-degli-antichi-esseni-2/
ATTACH;FMTTYPE=image/jpeg:https://accademiaolisticalberodellavita.it/wp-content/uploads/2023/09/vibrazionale.jpg
END:VEVENT
END:VCALENDAR