BEGIN:VCALENDAR
VERSION:2.0
PRODID:-//Accademia Olistica Albero della Vita - ECPv6.15.19//NONSGML v1.0//EN
CALSCALE:GREGORIAN
METHOD:PUBLISH
X-ORIGINAL-URL:https://accademiaolisticalberodellavita.it
X-WR-CALDESC:Eventi per Accademia Olistica Albero della Vita
REFRESH-INTERVAL;VALUE=DURATION:PT1H
X-Robots-Tag:noindex
X-PUBLISHED-TTL:PT1H
BEGIN:VTIMEZONE
TZID:UTC
BEGIN:STANDARD
TZOFFSETFROM:+0000
TZOFFSETTO:+0000
TZNAME:UTC
DTSTART:20230101T000000
END:STANDARD
END:VTIMEZONE
BEGIN:VEVENT
DTSTART;TZID=UTC:20240907T100000
DTEND;TZID=UTC:20240908T210000
DTSTAMP:20260421T090908
CREATED:20240708T140330Z
LAST-MODIFIED:20240708T141031Z
UID:7242-1725703200-1725829200@accademiaolisticalberodellavita.it
SUMMARY:MEDICINA TRADIZIONALE CINESE\, ALIMENTAZIONE E STILI DI VITA
DESCRIPTION:  \nIL CORSO SI SVOLGE IN DIRETTA ONLINE SU PIATTAFORMA ZOOM \ndocente: Maria Cristina Sapori \nContributo richiesto per il corso in diretta online su piattaforma ZOOM € 168\, comprensivi di dispensa di studio\, registrazione dell’intero corso e attestato di frequenza inviati online \nProgramma del corso teorico-esperienziale \n-Concetto e caratteristiche dello yin-yang \n-I Cinque Elementi: Legno – Fuoco – Terra – Metallo – Acqua \n-Le Leggi che governano i Cinque Elementi: comprendere i funzionamenti del nostro corpo e i collegamenti con emozioni\, stili di vita e cicli della Natura secondo la Medicina Tradizionale Cinese \n-Comprendere come utilizzare correttamente il cibo per mantenere equilibrio e benessere secondo i principi della Macrobiotica e dell’Alimentazione Naturale \n-Preparati Naturali ed Essenze Floreali collegati alle Logge Energetiche: come utilizzare\, erbe\, integratori ed essenze floreali per mantenere il Benessere si mente e corpo \n-Domande e risposte su casi specifici
URL:https://accademiaolisticalberodellavita.it/event/medicina-tradizionale-cinese-alimentazione-e-stili-di-vita/
END:VEVENT
END:VCALENDAR