BEGIN:VCALENDAR
VERSION:2.0
PRODID:-//Accademia Olistica Albero della Vita - ECPv6.15.19//NONSGML v1.0//EN
CALSCALE:GREGORIAN
METHOD:PUBLISH
X-WR-CALNAME:Accademia Olistica Albero della Vita
X-ORIGINAL-URL:https://accademiaolisticalberodellavita.it
X-WR-CALDESC:Eventi per Accademia Olistica Albero della Vita
REFRESH-INTERVAL;VALUE=DURATION:PT1H
X-Robots-Tag:noindex
X-PUBLISHED-TTL:PT1H
BEGIN:VTIMEZONE
TZID:UTC
BEGIN:STANDARD
TZOFFSETFROM:+0000
TZOFFSETTO:+0000
TZNAME:UTC
DTSTART:20230101T000000
END:STANDARD
END:VTIMEZONE
BEGIN:VEVENT
DTSTART;TZID=UTC:20241012T100000
DTEND;TZID=UTC:20241013T190000
DTSTAMP:20260421T071926
CREATED:20240708T143106Z
LAST-MODIFIED:20240708T143106Z
UID:7256-1728727200-1728846000@accademiaolisticalberodellavita.it
SUMMARY:RIFLESSOLOGIA PLANTARE OLISTICA INTEGRATA 1° modulo
DESCRIPTION:IL CORSO SI SVOLGE IN VIA PONTEBUCO\, 7/B – S. LAZZARO DI SAVENA (BO)  \ndocente: Sonja Demuru \nContributo richiesto per il corso in aula € 195 comprensivi di dispensa di studio rilegata\, registrazione dell’intero corso e attestato di frequenza cartaceo \nProgramma del corso teorico-pratico \n-Storia della Riflessologia Plantare fra Oriente e Occidente \n-L’approccio Olistico\, analisi visiva e tattile \n-Indicazioni\, controindicazioni e reazioni \n-Struttura del piede \n-La tecnica e le prese \n-Yin e Yang\, I Tre Tesori\, Organi pieni e visceri\nMOVIMENTO ACQUA: COPPIA RENE/VESCICA \n-L’energia innata: Il Sistema Urinario \n-Il Sistema Riproduttivo \n-La Colonna Vertebrale e il Midollo \n-Alimentazione\, Essenze Floreali e Oli Essenziali
URL:https://accademiaolisticalberodellavita.it/event/riflessologia-plantare-olistica-integrata-1-modulo-3/
END:VEVENT
BEGIN:VEVENT
DTSTART;TZID=UTC:20241012T100000
DTEND;TZID=UTC:20241013T190000
DTSTAMP:20260421T071926
CREATED:20240708T143243Z
LAST-MODIFIED:20240708T143243Z
UID:7258-1728727200-1728846000@accademiaolisticalberodellavita.it
SUMMARY:NUMEROLOGIA EVOLUTIVA INTEGRATA 2° modulo
DESCRIPTION:IL CORSO SI SVOLGE IN DIRETTA ONLINE SU PIATTAFORMA ZOOM \ndocente: Maria Cristina Sapori \nContributo richiesto per il corso in diretta online su piattaforma ZOOM € 168\, comprensivi di dispensa di studio\, registrazione dell’intero corso e attestato di frequenza inviati online \nProgramma del corso teorico-pratico \n-Come costruire e interpretare il proprio Quadrato di Nascita ricavato dalla propria data di nascita \n-Studio degli Indicatori del Quadrato di Nascita che indicano predisposizioni\, attitudini\, talenti\, zone ombra \n-Il Numero dei Talenti: come si ricava \n-Comprendere i cambiamenti che avvengono nella vita durante i Cicli dei 9 Anni \n-Suddivisione della vita in 4 fasi evolutive: Anni di Picco (o Anni dove abbiamo un’elevata spinta propulsiva che ci permette di raggiungere traguardi o manifestare potenzialità) e Anni di Sfida (o Anni dove ricaviamo i maggiori insegnamenti della nostra Vita attraverso lo superamento dei momenti di maggior difficoltà) \n-Cenni sul legame fra Astrologia e Numerologia
URL:https://accademiaolisticalberodellavita.it/event/numerologia-evolutiva-integrata-2-modulo/
END:VEVENT
END:VCALENDAR