BEGIN:VCALENDAR
VERSION:2.0
PRODID:-//Accademia Olistica Albero della Vita - ECPv6.15.19//NONSGML v1.0//EN
CALSCALE:GREGORIAN
METHOD:PUBLISH
X-ORIGINAL-URL:https://accademiaolisticalberodellavita.it
X-WR-CALDESC:Eventi per Accademia Olistica Albero della Vita
REFRESH-INTERVAL;VALUE=DURATION:PT1H
X-Robots-Tag:noindex
X-PUBLISHED-TTL:PT1H
BEGIN:VTIMEZONE
TZID:UTC
BEGIN:STANDARD
TZOFFSETFROM:+0000
TZOFFSETTO:+0000
TZNAME:UTC
DTSTART:20230101T000000
END:STANDARD
END:VTIMEZONE
BEGIN:VEVENT
DTSTART;TZID=UTC:20241109T100000
DTEND;TZID=UTC:20241110T190000
DTSTAMP:20260421T052603
CREATED:20240708T164306Z
LAST-MODIFIED:20240708T164306Z
UID:7266-1731146400-1731265200@accademiaolisticalberodellavita.it
SUMMARY:TECNICA METAMORFICA - CORSO BASE
DESCRIPTION:IL CORSO SI SVOLGE IN VIA PONTEBUCO\, 7/B – S. LAZZARO DI SAVENA (BO) E CONTEMPORANEAMENTE IN DIRETTA ONLINE SU PIATTAFORMA ZOOM \ndocente: Sonja Demuru \nContributo richiesto per il corso in aula € 189 comprensivi di dispensa di studio rilegata\, registrazione dell’intero corso e attestato di frequenza cartaceo \nContributo richiesto per il corso in diretta online su piattaforma ZOOM € 168\, comprensivi di dispensa di studio\, registrazione dell’intero corso e attestato di frequenza inviati online \nProgramma del corso teorico-pratico \n-Robert St. John e l’evoluzione dalla Riflessologia plantare alla Tecnica Metamorfica. \n-Lo schema prenatale: dal pre-concepimento alla nascita. Quando la Coscienza fa il suo ingresso nella nuova vita in divenire? \n-Il ruolo delle Influenze nella nostra realizzazione sulla terra: Influenze Materiali e Influenze non Materiali. \n-Il principio delle Corrispondenze: tessuti duri\, tessuti molli\, fluidi – Energia\, Pensiero\, Emozioni. \n-L’approccio dell’Operatore e l’importanza della non motivazione. \n-La pratica: a chi è rivolta la Tecnica Metamorfica?- Trattamento ai piedi\n– Trattamento alle mani – Trattamento alla testa – Trattamento a distanza – Durata e frequenza\n– L’Operatore \n-Massaggio finale con Essenze Floreali e Oli Essenziali per armonizzare le aree del Pensare/Sentire/Volere.
URL:https://accademiaolisticalberodellavita.it/event/tecnica-metamorfica-corso-base-2/
END:VEVENT
BEGIN:VEVENT
DTSTART;TZID=UTC:20241109T100000
DTEND;TZID=UTC:20241110T190000
DTSTAMP:20260421T052603
CREATED:20240708T164512Z
LAST-MODIFIED:20240708T164512Z
UID:7268-1731146400-1731265200@accademiaolisticalberodellavita.it
SUMMARY:COME CONDURRE UNA SEDUTA IN TECNICHE OLISTICHE
DESCRIPTION:IL CORSO SI SVOLGE IN DIRETTA ONLINE SU PIATTAFORMA ZOOM  \ndocente: Maria Cristina Sapori \nContributo richiesto per il corso in diretta online su piattaforma ZOOM € 168\, comprensivi di dispensa di studio\, registrazione dell’intero corso e attestato di frequenza inviati online \nProgramma del corso teorico-esperienziale \nCome impostare il colloquio con il cliente: empatia\, ascolto attento\, valutazione della tipologia di intervento da attuare  \nComprensione degli strumenti e delle tecniche più adeguate ad ogni caso  \nRapporto Operatore Olistico – Cliente  \nSimulazione in aula di casi specifici con valutazione dell’approccio olistico da attuare 
URL:https://accademiaolisticalberodellavita.it/event/come-condurre-una-seduta-in-tecniche-olistiche-4/
ATTACH;FMTTYPE=image/jpeg:https://accademiaolisticalberodellavita.it/wp-content/uploads/2023/08/ORIENTAMENTO.jpg
END:VEVENT
END:VCALENDAR