BEGIN:VCALENDAR
VERSION:2.0
PRODID:-//Accademia Olistica Albero della Vita - ECPv6.15.19//NONSGML v1.0//EN
CALSCALE:GREGORIAN
METHOD:PUBLISH
X-WR-CALNAME:Accademia Olistica Albero della Vita
X-ORIGINAL-URL:https://accademiaolisticalberodellavita.it
X-WR-CALDESC:Eventi per Accademia Olistica Albero della Vita
REFRESH-INTERVAL;VALUE=DURATION:PT1H
X-Robots-Tag:noindex
X-PUBLISHED-TTL:PT1H
BEGIN:VTIMEZONE
TZID:UTC
BEGIN:STANDARD
TZOFFSETFROM:+0000
TZOFFSETTO:+0000
TZNAME:UTC
DTSTART:20230101T000000
END:STANDARD
END:VTIMEZONE
BEGIN:VEVENT
DTSTART;TZID=UTC:20241123T100000
DTEND;TZID=UTC:20241124T190000
DTSTAMP:20260421T052429
CREATED:20240708T164924Z
LAST-MODIFIED:20240708T164924Z
UID:7272-1732356000-1732474800@accademiaolisticalberodellavita.it
SUMMARY:METODO LIGHT & SOLVE™
DESCRIPTION:(metodo ideato da Maria cristina Sapori) \nIL CORSO SI SVOLGE IN VIA F. BETTI\, 6 IDICE – S. LAZZARO DI SAVENA (BO) E CONTEMPORANEAMENTE IN DIRETTA ONLINE SU PIATTAFORMA ZOOM  \ndocente: Maria Cristina Sapori \nContributo richiesto per il corso in aula € 189 comprensivi di dispensa di studio rilegata\, registrazione dell’intero corso e attestato di frequenza cartaceo \nContributo richiesto per il corso in diretta online su piattaforma ZOOM € 168\, comprensivi di dispensa di studio\, registrazione dell’intero corso e attestato di frequenza inviati online \nProgramma del corso teorico-esperienziale \n-Tecniche di centratura e ascolto interiore \n-Metodi di indagine per comprendere come mente-corpo ed emozioni interagiscono favorendo l’esordio di dis-agio e malessere \n-Metodo Light & Solve: un nuovo metodo efficace per affrontare i momenti difficili \n-Come guidare il cliente verso la comprensione delle possibili cause delle disarmonie che si stanno vivendo \nEsercitazioni e pratica in aula \nDomande e risposte sui casi trattati in aula
URL:https://accademiaolisticalberodellavita.it/event/metodo-light-solve-2/
END:VEVENT
END:VCALENDAR