BEGIN:VCALENDAR
VERSION:2.0
PRODID:-//Accademia Olistica Albero della Vita - ECPv6.15.19//NONSGML v1.0//EN
CALSCALE:GREGORIAN
METHOD:PUBLISH
X-WR-CALNAME:Accademia Olistica Albero della Vita
X-ORIGINAL-URL:https://accademiaolisticalberodellavita.it
X-WR-CALDESC:Eventi per Accademia Olistica Albero della Vita
REFRESH-INTERVAL;VALUE=DURATION:PT1H
X-Robots-Tag:noindex
X-PUBLISHED-TTL:PT1H
BEGIN:VTIMEZONE
TZID:UTC
BEGIN:STANDARD
TZOFFSETFROM:+0000
TZOFFSETTO:+0000
TZNAME:UTC
DTSTART:20230101T000000
END:STANDARD
END:VTIMEZONE
BEGIN:VEVENT
DTSTART;TZID=UTC:20241207T100000
DTEND;TZID=UTC:20241208T190000
DTSTAMP:20260421T032714
CREATED:20240708T165453Z
LAST-MODIFIED:20240708T165453Z
UID:7278-1733565600-1733684400@accademiaolisticalberodellavita.it
SUMMARY:NUMEROLOGIA EVOLUTIVA INTEGRATA 3° modulo
DESCRIPTION:IL CORSO SI SVOLGE IN DIRETTA ONLINE SU PIATTAFORMA ZOOM \ndocente: Maria Cristina Sapori \nContributo richiesto per il corso in diretta online su piattaforma ZOOM € 168\, comprensivi di dispensa di studio\, registrazione dell’intero corso e attestato di frequenza inviati online \nProgramma del corso teorico-esperienziale \nApprofondimento sulla Carta di Numerologia Evolutiva Integrata™ e sulle Comparazioni di Coppia \nStudio delle prime 12 lettere dell’Alfabeto Ebraico e comprensione del loro valore energetico e delle loro corrispondenze numeriche \nNUMEROLOGIA EVOLUTIVA INTEGRATA ™: corrispondenze tra Numeri\, Lettere Ebraiche\, Essenze Floreali e Cristalli \nTecniche di Riequilibrio Energetico attraverso l’utilizzo di Numeri: Meditazioni e Visualizzazioni guidate\, utilizzo dei Numeri per la Creazione di Mandala per l’armonizzazione degli ambienti in cui viviamo \nCenni sulle Sequenze Numeriche di Grigorji Grabovoj \nUtilizzo delle Sequenze Numeriche di Fibonacci e di Zhi Gang Shah per ritrovare armonia e centratura \nMeditazione guidata per trovare la propria Sequenza Numerica da utilizzare per riattivare i propri talenti e le proprie potenzialità interiori \nDomande e studio di casi particolari
URL:https://accademiaolisticalberodellavita.it/event/numerologia-evolutiva-integrata-3-modulo/
END:VEVENT
END:VCALENDAR