BEGIN:VCALENDAR
VERSION:2.0
PRODID:-//Accademia Olistica Albero della Vita - ECPv6.15.19//NONSGML v1.0//EN
CALSCALE:GREGORIAN
METHOD:PUBLISH
X-WR-CALNAME:Accademia Olistica Albero della Vita
X-ORIGINAL-URL:https://accademiaolisticalberodellavita.it
X-WR-CALDESC:Eventi per Accademia Olistica Albero della Vita
REFRESH-INTERVAL;VALUE=DURATION:PT1H
X-Robots-Tag:noindex
X-PUBLISHED-TTL:PT1H
BEGIN:VTIMEZONE
TZID:UTC
BEGIN:STANDARD
TZOFFSETFROM:+0000
TZOFFSETTO:+0000
TZNAME:UTC
DTSTART:20230101T000000
END:STANDARD
END:VTIMEZONE
BEGIN:VEVENT
DTSTART;TZID=UTC:20241214T100000
DTEND;TZID=UTC:20241215T190000
DTSTAMP:20260421T032711
CREATED:20240708T165644Z
LAST-MODIFIED:20240708T165644Z
UID:7280-1734170400-1734289200@accademiaolisticalberodellavita.it
SUMMARY:I FIORI DI BACH PER L'ARMONIA DI CORPO\, MENTE E SPIRITO
DESCRIPTION:IL CORSO SI SVOLGE IN DIRETTA ONLINE SU PIATTAFORMA ZOOM \ndocente: Maria Cristina Sapori \nContributo richiesto per il corso in diretta online su piattaforma ZOOM € 168\, comprensivi di dispensa di studio\, registrazione dell’intero corso e attestato di frequenza inviati online \nProgramma del corso  \n-Studio approfondito delle 38 essenze floreali del dott. Bach:  \n-Fiori per le paure \n-I Fiori per l’insicurezza \ne la mancanza di autostima \n-I Fiori per la solitudine  \n-I Fiori per l’incapacità di vivere il proprio quotidiano \n-I Fiori per il senso di isolamento  \n-I Fiori per la disperazione \n-I Fiori per la tendenza ad essere manipolatori e dominanti \n-Studio degli Archetipi di Luce abbinati ai Fiori di Bach \n-Studio di combinazioni di essenze floreali per il riequilibrio emozionale\, con valutazione di singoli casi e \nformulazione di miscele appropriate \n-Utilizzo del biotensor (test radiestesico) per la scelta dei diversi mix di essenze floreali  \n-Esercitazioni in aula: come condurre un colloquio per l’individuazione delle essenze floreali adatte
URL:https://accademiaolisticalberodellavita.it/event/i-fiori-di-bach-per-larmonia-di-corpo-mente-e-spirito-2/
ATTACH;FMTTYPE=image/jpeg:https://accademiaolisticalberodellavita.it/wp-content/uploads/2024/02/fiori-e1759780563379.jpg
END:VEVENT
END:VCALENDAR