BEGIN:VCALENDAR
VERSION:2.0
PRODID:-//Accademia Olistica Albero della Vita - ECPv6.15.19//NONSGML v1.0//EN
CALSCALE:GREGORIAN
METHOD:PUBLISH
X-WR-CALNAME:Accademia Olistica Albero della Vita
X-ORIGINAL-URL:https://accademiaolisticalberodellavita.it
X-WR-CALDESC:Eventi per Accademia Olistica Albero della Vita
REFRESH-INTERVAL;VALUE=DURATION:PT1H
X-Robots-Tag:noindex
X-PUBLISHED-TTL:PT1H
BEGIN:VTIMEZONE
TZID:UTC
BEGIN:STANDARD
TZOFFSETFROM:+0000
TZOFFSETTO:+0000
TZNAME:UTC
DTSTART:20230101T000000
END:STANDARD
END:VTIMEZONE
BEGIN:VEVENT
DTSTART;TZID=UTC:20241222T100000
DTEND;TZID=UTC:20241222T190000
DTSTAMP:20260421T032714
CREATED:20240708T170241Z
LAST-MODIFIED:20240708T170241Z
UID:7284-1734861600-1734894000@accademiaolisticalberodellavita.it
SUMMARY:ORIENTAMENTO PROFESSIONALE PER OPERATORI OLISTICI
DESCRIPTION:IL CORSO SI SVOLGE IN DIRETTA ONLINE SU PIATTAFORMA ZOOM  \ndocente: Maria Cristina Sapori \nContributo richiesto per il corso in diretta online su piattaforma ZOOM € 95\, comprensivi di dispensa di studio\, registrazione dell’intero corso e attestato di frequenza inviati online \nProgramma del corso teorico-esperienziale \nLa presa in carico del cliente\nConferimento d’incarico\, tutela della privacy  \nRapporti con i clienti e con i colleghi  \nEducazione continua professionale: ECP Aggiornamenti e norme\nSpazio interattivo per domande
URL:https://accademiaolisticalberodellavita.it/event/orientamento-professionale-per-operatori-olistici-2/
ATTACH;FMTTYPE=image/png:https://accademiaolisticalberodellavita.it/wp-content/uploads/2023/08/codice.png
END:VEVENT
END:VCALENDAR