BEGIN:VCALENDAR
VERSION:2.0
PRODID:-//Accademia Olistica Albero della Vita - ECPv6.15.19//NONSGML v1.0//EN
CALSCALE:GREGORIAN
METHOD:PUBLISH
X-WR-CALNAME:Accademia Olistica Albero della Vita
X-ORIGINAL-URL:https://accademiaolisticalberodellavita.it
X-WR-CALDESC:Eventi per Accademia Olistica Albero della Vita
REFRESH-INTERVAL;VALUE=DURATION:PT1H
X-Robots-Tag:noindex
X-PUBLISHED-TTL:PT1H
BEGIN:VTIMEZONE
TZID:UTC
BEGIN:STANDARD
TZOFFSETFROM:+0000
TZOFFSETTO:+0000
TZNAME:UTC
DTSTART:20240101T000000
END:STANDARD
END:VTIMEZONE
BEGIN:VEVENT
DTSTART;TZID=UTC:20250111T100000
DTEND;TZID=UTC:20250112T130000
DTSTAMP:20260421T013817
CREATED:20241226T171952Z
LAST-MODIFIED:20241226T180134Z
UID:7499-1736589600-1736686800@accademiaolisticalberodellavita.it
SUMMARY: I FIORI CALIFORNIANI: GOCCE DI LUCE PER IL RIEQUILIBRIO EMOZIONALE
DESCRIPTION:IL CORSO SI SVOLGE IN DIRETTA ONLINE SU PIATTAFORMA ZOOM \ndocente: Maria Cristina Sapori \nContributo richiesto per il corso in diretta online su piattaforma ZOOM € 168\, comprensivi di dispensa di \nstudio\, registrazione dell’intero corso e attestato di frequenza inviati online \nProgramma del corso \n-Studio approfondito delle essenze floreali californiane per il riequilibrio vibrazionale di: \n-insicurezza \n-mancanza di autostima \n-paure \n-depressione e pessimismo \n-influenzabilità \n-mancanza di \ndeterminazione e volontà \n-dipendenze \n-rabbia e aggressività \n-esaurimento delle energie \n-protezione del campo aurico \n-traumi e shock \n-Osservazione dei fiori e studio delle loro segnature \n-Esempi di miscele di Fiori Californiani\, Fiori di Bach e Australian Bush per il riequilibrio delle emozioni \n-Indicazioni specifiche per la preparazione di creme e spray a base di essen
URL:https://accademiaolisticalberodellavita.it/event/i-fiori-californiani-gocce-di-luce-per-il-riequilibrio-emozionale/
ATTACH;FMTTYPE=image/jpeg:https://accademiaolisticalberodellavita.it/wp-content/uploads/2024/02/fiori-e1759780563379.jpg
END:VEVENT
BEGIN:VEVENT
DTSTART;TZID=UTC:20250111T100000
DTEND;TZID=UTC:20250112T190000
DTSTAMP:20260421T013817
CREATED:20241226T172249Z
LAST-MODIFIED:20241227T122910Z
UID:7501-1736589600-1736708400@accademiaolisticalberodellavita.it
SUMMARY:RIFLESSOLOGIA PLANTARE OLISTICA INTEGRATA - 3° modulo
DESCRIPTION:IL CORSO SI SVOLGE IN VIA F. BETTI\, 6 IDICE – S. LAZZARO DI SAVENA (BO) \ndocente: Sonja Demuru \nContributo richiesto per il corso in aula € 195 comprensivi di dispensa di studio rilegata\, registrazione \ndell’intero corso e attestato di frequenza cartaceo \nProgramma del corso teorico-pratico \nMOVIMENTO METALLO: COPPIA POLMONE/INTESTINO CRASSO \n-Il nutrimento del Cielo: Sistema Respiratorio \n-Alimentazione\, Essenze Floreali e Oli Essenziali \n-Gabbia toracica e respiro delle ossa \n-Protocollo Sistema Respiratorio \nSISTEMA ENDOCRINO \n-Le porte fra la Terra e il Cielo \n-Alimentazione\, Essenze Floreali e Oli Essenziali \n-Protocollo Sistema Endocrino \nRELAZIONI TRA I CINQUE MOVIMENTI \n-Ciclo di Generazione e Ciclo di Controllo \nSIGNIFICATO IN PSICOSOMATICA DELLE DITA DEI PIEDI CONSIGLI PER SQUILIBRI VARI
URL:https://accademiaolisticalberodellavita.it/event/riflessologia-plantare-olistica-integrata-3-modulo-3/
ATTACH;FMTTYPE=image/jpeg:https://accademiaolisticalberodellavita.it/wp-content/uploads/2021/12/SONJA-scaled-e1735302532638.jpg
END:VEVENT
END:VCALENDAR