BEGIN:VCALENDAR
VERSION:2.0
PRODID:-//Accademia Olistica Albero della Vita - ECPv6.15.19//NONSGML v1.0//EN
CALSCALE:GREGORIAN
METHOD:PUBLISH
X-ORIGINAL-URL:https://accademiaolisticalberodellavita.it
X-WR-CALDESC:Eventi per Accademia Olistica Albero della Vita
REFRESH-INTERVAL;VALUE=DURATION:PT1H
X-Robots-Tag:noindex
X-PUBLISHED-TTL:PT1H
BEGIN:VTIMEZONE
TZID:UTC
BEGIN:STANDARD
TZOFFSETFROM:+0000
TZOFFSETTO:+0000
TZNAME:UTC
DTSTART:20240101T000000
END:STANDARD
END:VTIMEZONE
BEGIN:VEVENT
DTSTART;TZID=UTC:20250119T100000
DTEND;TZID=UTC:20250119T190000
DTSTAMP:20260421T013813
CREATED:20241226T172439Z
LAST-MODIFIED:20250111T203905Z
UID:7503-1737280800-1737313200@accademiaolisticalberodellavita.it
SUMMARY:COME CONDURRE UN BAGNO DI SUONI  INDIVIDUALE E  DI GRUPPO
DESCRIPTION:IL CORSO SI SVOLGE IN VIA VITTORIA\, 23/A  S. LAZZARO DI SAVENA (BO) \ndocenti: Alessio Bennati e Linda Ferioli \nContributo richiesto per il corso in aula € 95\, comprensivi di attestato di frequenza cartaceo \nProgramma del corso teorico-pratico \n-comprendere come fare un trattamento energetico-sonoro invidiare usando strumenti musicali delle \nAntiche e Nuove Tradizioni (tamburo sciamanico\, campane\, shruti box\, koshi\, cimbali\, sonagli\, e altro \nancora) integrandoli con altre tecniche vibrazionali per portare benessere e armonia individuale o in un \ngruppo \n-comprendere come creare uno Spazio Sacro e come leggere il linguaggio del corpo\, le reazioni emotive e \nil campo aureo di ogni partecipante-l’importanza di permettere che l’esperienza del Bagno di Suoni sia armoniosa e offerta con amorevolezza \ne grande presenza \n-comprendere con fare una Limpia Sciamanica (pulizia del Campo Energetico) \n-comprendere come realizzare un Bagno di Suoni per stimolare il sistema di equilibrio \ndel corpo e attivare una profonda riparazione a livello cellulare\, percependo come la \nvibrazione sonora produca un profondo effetto rilassante a tutti i livelli dell’Essere \n-pratica in aula \n-domande e risposte
URL:https://accademiaolisticalberodellavita.it/event/come-condurre-una-seduta-individuale-e-un-bagno-di-suoni-per-un-gruppo/
ATTACH;FMTTYPE=image/jpeg:https://accademiaolisticalberodellavita.it/wp-content/uploads/2024/12/LINDA-E-ALESSIO-e1752589120895.jpeg
END:VEVENT
END:VCALENDAR