BEGIN:VCALENDAR
VERSION:2.0
PRODID:-//Accademia Olistica Albero della Vita - ECPv6.15.19//NONSGML v1.0//EN
CALSCALE:GREGORIAN
METHOD:PUBLISH
X-WR-CALNAME:Accademia Olistica Albero della Vita
X-ORIGINAL-URL:https://accademiaolisticalberodellavita.it
X-WR-CALDESC:Eventi per Accademia Olistica Albero della Vita
REFRESH-INTERVAL;VALUE=DURATION:PT1H
X-Robots-Tag:noindex
X-PUBLISHED-TTL:PT1H
BEGIN:VTIMEZONE
TZID:UTC
BEGIN:STANDARD
TZOFFSETFROM:+0000
TZOFFSETTO:+0000
TZNAME:UTC
DTSTART:20240101T000000
END:STANDARD
END:VTIMEZONE
BEGIN:VEVENT
DTSTART;TZID=UTC:20250208T100000
DTEND;TZID=UTC:20250209T190000
DTSTAMP:20260421T000040
CREATED:20241226T173854Z
LAST-MODIFIED:20241226T173854Z
UID:7513-1739008800-1739127600@accademiaolisticalberodellavita.it
SUMMARY:REIKI 1° LIVELLO (SHODEN) con Tecniche Originali di Mika Usui
DESCRIPTION:  \ni Seminari si tengono solo in presenza e prevedono due giornate di formazione in quanto sono \nincluse le Tecniche originali di Mikao Usui\, adeguate ad ogni livello. \nIL CORSO SI SVOLGE IN VIA F. BETTI\, 6 – IDICE – SAN LAZZARO DI SAVENA (BO) \ndocente: Sonja Demuru \nContributo richiesto € 189\, comprensivi di dispensa di studio e attestato di frequenza \nProgramma del corso \n–Cosa è REIKI e quali sono i suoi propositi \n-La vera storia del Reiki di Mikao Usui \n-Kanji REIKI\, significato e suoi possibili utilizzi \n-SHODEN\, livello manuale e atteggiamento del non fare \n-Esercizi per percepire l’energia \n-Modalità di Autotrattamento \n-Trattamento agli altri: completo\, breve\, Chakra\, libero \n-Trattamento ai bambini\, alle piante\, agli animali\, all’acqua\, al cibo\, alle cose \n-I principi del Reiki \n-I tre pilastri del Reiki di Mikao Usui: Gassho\, Reiji\, Chiryo \n– Mawashi Reiki\, esercizio di gruppo di percezione dell’energia \n-Awasu Reiki\, esercizio di sensibilizzazione energetica \n-Kenyoku Reiki\, lavarsi senz’acqua\, esercizio di purificazione \n-Tanden Chiryo\, trattamento del Tanden \n-Gedoku Ho\, trattamento disintossicante \n-Hanshin Chiryo e Hanshin Koketsu-Ho\, tecniche di strofinamento \n-Jacki-Kiri Joka Ho\, purificazione degli oggetti \n-Scambio Trattamento \n-Cerchio finale e consegna attestato \nDurante il livello Shoden verranno effettuati quattro Reiju (armonizzazioni)
URL:https://accademiaolisticalberodellavita.it/event/reiki-1-livello-shoden-con-tecniche-originali-di-mika-usui/
END:VEVENT
BEGIN:VEVENT
DTSTART;TZID=UTC:20250208T100000
DTEND;TZID=UTC:20250209T190000
DTSTAMP:20260421T000040
CREATED:20241226T174100Z
LAST-MODIFIED:20241226T174100Z
UID:7515-1739008800-1739127600@accademiaolisticalberodellavita.it
SUMMARY:AUSTRALIAN BUSH FLOWER
DESCRIPTION:docente: Maria Cristina Sapori \nIL CORSO SI SVOLGE IN DIRETTA ONLINE SU PIATTAFORMA ZOOM \nContributo richiesto € 168\, comprensivi di dispensa di studio\, attestato di frequenza e \nregistrazione dell’intero corso\, fotografie dei 38 Fiori di Bach inviati online \nProgramma del corso \n-Studio approfondito delle 69 essenze Australian Bush Flowers per il riequilibrio di emozioni e stati \nd’animo \n-Esempi di miscele di Australian Bush Flowers\, Fiori di Bach e Fiori Californiani per ottenere preparati \nsinergici\, particolarmente efficaci sugli aspetti da riequilibrare \n-Indicazioni specifiche per la preparazione di creme e spray a base di essenze floreali e oli essenziali per \npurificare e proteggere il proprio campo energetico e i luoghi in cui viviamo \n-Domande e risposte con esempi di casi trattati
URL:https://accademiaolisticalberodellavita.it/event/australian-bush-flower-3/
END:VEVENT
END:VCALENDAR